BEGIN:VCALENDAR
VERSION:2.0
PRODID:-//Metro Denver Dental Society - ECPv6.15.18//NONSGML v1.0//EN
CALSCALE:GREGORIAN
METHOD:PUBLISH
X-ORIGINAL-URL:https://mddsdentist.com
X-WR-CALDESC:Events for Metro Denver Dental Society
REFRESH-INTERVAL;VALUE=DURATION:PT1H
X-Robots-Tag:noindex
X-PUBLISHED-TTL:PT1H
BEGIN:VTIMEZONE
TZID:America/Denver
BEGIN:DAYLIGHT
TZOFFSETFROM:-0700
TZOFFSETTO:-0600
TZNAME:MDT
DTSTART:20240310T090000
END:DAYLIGHT
BEGIN:STANDARD
TZOFFSETFROM:-0600
TZOFFSETTO:-0700
TZNAME:MST
DTSTART:20241103T080000
END:STANDARD
BEGIN:DAYLIGHT
TZOFFSETFROM:-0700
TZOFFSETTO:-0600
TZNAME:MDT
DTSTART:20250309T090000
END:DAYLIGHT
BEGIN:STANDARD
TZOFFSETFROM:-0600
TZOFFSETTO:-0700
TZNAME:MST
DTSTART:20251102T080000
END:STANDARD
BEGIN:DAYLIGHT
TZOFFSETFROM:-0700
TZOFFSETTO:-0600
TZNAME:MDT
DTSTART:20260308T090000
END:DAYLIGHT
BEGIN:STANDARD
TZOFFSETFROM:-0600
TZOFFSETTO:-0700
TZNAME:MST
DTSTART:20261101T080000
END:STANDARD
END:VTIMEZONE
BEGIN:VEVENT
DTSTART;TZID=America/Denver:20251106T080000
DTEND;TZID=America/Denver:20251108T170000
DTSTAMP:20260421T052258
CREATED:20250306T195455Z
LAST-MODIFIED:20251018T191946Z
UID:10062444-1762416000-1762621200@mddsdentist.com
SUMMARY:MWDI Rental: The OBI Foundation-Level 3
DESCRIPTION:
URL:https://mddsdentist.com/event/mwdi-rental-the-obi-foundation-level-3-tentative-2/
CATEGORIES:employee,general
END:VEVENT
BEGIN:VEVENT
DTSTART;TZID=America/Denver:20251106T120000
DTEND;TZID=America/Denver:20251106T130000
DTSTAMP:20260421T052258
CREATED:20241108T010313Z
LAST-MODIFIED:20250414T183639Z
UID:10061576-1762430400-1762434000@mddsdentist.com
SUMMARY:HR Webinar: Workplace Civility
DESCRIPTION:WEBINAR: Workplace Civility\nPresented by Mr. David Bashford \nThe second most common claim that employment lawyers see from unhappy employees is a hostile workplace. What exactly is a hostile workplace? Despite everyone always assuring their law team they do not discriminate\, intimidate\, or harass employees or each other\, why do valid claims for exactly that keep coming up? This webinar will look at the foibles\, intended and unintended\, that make for a hostile environment and how to maintain a strong and positive culture. We will explore what to do and what not to do if an employee alleges a lack of civility. \nObjectives \n\nUnderstand what constitutes a hostile workplace and the factors that lead to valid claims.\nLearn strategies to foster a culture of respect and positivity to prevent workplace hostility.\nGain actionable insights on responding effectively to employee allegations of incivility while protecting your practice.\n\nDavid Bashford is an attorney with Range PC\, a management-side employment and business law firm headquartered in Denver. David’s practice focuses on business matters\, employment law and training. He can be reached at davidbashford@range.law. \nDate: Thursday\, November 6\, 2025 \nTime: 12:00pm – 1:00pm \nRate:\n$0 MDDS Member\n$25 MDDS Non-Member \nLocation: Zoom Webinar\nDue to the nature of the webinar\, a recording will be available for on-demand viewing following the webinar.  \nCredits: 1 \nFormat: Virtual \nSpeaker Conflict of Interest Disclosure: Non-Reported \nCancellation Deadline: October 10\, 2025 \nRegistration Deadline: November 5\, 2025 \nCancellation Policy\nCancellations will be accepted and are entitled to a refund provided they are received at MDDS by the cancellation deadline. Refunds will not be given for cancellations after the cancellation deadline.
URL:https://mddsdentist.com/event/workplace-civility-webinar/
CATEGORIES:employee,general,mdds
ORGANIZER;CN="MDDS":MAILTO:mdds@mddsdentist.com
END:VEVENT
END:VCALENDAR