BEGIN:VCALENDAR
VERSION:2.0
PRODID:-//Metro Denver Dental Society - ECPv6.15.18//NONSGML v1.0//EN
CALSCALE:GREGORIAN
METHOD:PUBLISH
X-WR-CALNAME:Metro Denver Dental Society
X-ORIGINAL-URL:https://mddsdentist.com
X-WR-CALDESC:Events for Metro Denver Dental Society
REFRESH-INTERVAL;VALUE=DURATION:PT1H
X-Robots-Tag:noindex
X-PUBLISHED-TTL:PT1H
BEGIN:VTIMEZONE
TZID:America/Denver
BEGIN:DAYLIGHT
TZOFFSETFROM:-0700
TZOFFSETTO:-0600
TZNAME:MDT
DTSTART:20230312T090000
END:DAYLIGHT
BEGIN:STANDARD
TZOFFSETFROM:-0600
TZOFFSETTO:-0700
TZNAME:MST
DTSTART:20231105T080000
END:STANDARD
BEGIN:DAYLIGHT
TZOFFSETFROM:-0700
TZOFFSETTO:-0600
TZNAME:MDT
DTSTART:20240310T090000
END:DAYLIGHT
BEGIN:STANDARD
TZOFFSETFROM:-0600
TZOFFSETTO:-0700
TZNAME:MST
DTSTART:20241103T080000
END:STANDARD
BEGIN:DAYLIGHT
TZOFFSETFROM:-0700
TZOFFSETTO:-0600
TZNAME:MDT
DTSTART:20250309T090000
END:DAYLIGHT
BEGIN:STANDARD
TZOFFSETFROM:-0600
TZOFFSETTO:-0700
TZNAME:MST
DTSTART:20251102T080000
END:STANDARD
END:VTIMEZONE
BEGIN:VEVENT
DTSTART;TZID=America/Denver:20240112T080000
DTEND;TZID=America/Denver:20240112T150000
DTSTAMP:20260422T181938
CREATED:20230811T170121Z
LAST-MODIFIED:20230812T184309Z
UID:10060621-1705046400-1705071600@mddsdentist.com
SUMMARY:MWDI Rental: Dr. Shayan Barootchi Lecture
DESCRIPTION:
URL:https://mddsdentist.com/event/mwdi-rental-dr-shayan-barootchi-lecture-tenative/
CATEGORIES:employee,general
END:VEVENT
BEGIN:VEVENT
DTSTART;VALUE=DATE:20240118
DTEND;VALUE=DATE:20240121
DTSTAMP:20260422T181938
CREATED:20231120T165829Z
LAST-MODIFIED:20231120T170659Z
UID:10060795-1705536000-1705795199@mddsdentist.com
SUMMARY:2024 Rocky Mountain Dental Convention (RMDC)
DESCRIPTION:The Metro Denver Dental Society (MDDS) will proudly present the Rocky Mountain Dental Convention (RMDC) on January 18-20\, 2024. This in-person event will take place in beautiful downtown Denver at the Colorado Convention Center. Dental professionals from across the region will reconnect over 110 in-person lectures and hands-on workshops\, a 200+ booth Expo Hall and networking and social gatherings including the Mile High Party\,  Friday Night Party\, Sips & Shopping Happy Hour and Saturday Snacks & Shopping Break. \nRMDC features include: \n\nFREE Expo Hall\n110 lectures and workshops\n65+ cutting-edge speakers\n200+ booth Expo Hall\n5 exciting social events\n30-day access to a selection of recorded on-demand sessions\nComplimentary headshots\nComplimentary ergonomic assessments\nCash prizes\nAnd\, more!\n\nDate: January 18 – 20\, 2024 \nTime: 8:00am – 6:00pm \nLocation: Colorado Convention Center\n700 14th St\nDenver\, CO 80202 \nRate: \n$0 MDDS members\nAll other rates vary
URL:https://mddsdentist.com/event/2024-rocky-mountain-dental-convention-rmdc/
LOCATION:Colorado Convention Center\, 700 14th St\, Denver\, 80202\, United States
CATEGORIES:employee,general,mdds,volunteer
ATTACH;FMTTYPE=image/jpeg:https://mddsdentist.com/wp-content/uploads/2023/11/Logo-RMDC-2023_Vertical_Blue.jpg
ORGANIZER;CN="MDDS":MAILTO:mdds@mddsdentist.com
GEO:39.742615;-104.9965725
X-APPLE-STRUCTURED-LOCATION;VALUE=URI;X-ADDRESS=Colorado Convention Center 700 14th St Denver 80202 United States;X-APPLE-RADIUS=500;X-TITLE=700 14th St:geo:-104.9965725,39.742615
END:VEVENT
BEGIN:VEVENT
DTSTART;TZID=America/Denver:20240118T180000
DTEND;TZID=America/Denver:20240118T200000
DTSTAMP:20260422T181938
CREATED:20231204T211907Z
LAST-MODIFIED:20231211T170151Z
UID:10060807-1705600800-1705608000@mddsdentist.com
SUMMARY:ADA President-Elect Reception
DESCRIPTION:Celebrate MDDS/CDA member dentist and ADA President-elect\, Dr. Brett Kessler. Join us for lite bites\, a cash bar\, connection and gorgeous evening mountain views while we honor the future leader of organized dentistry. \nSponsored by the Colorado Dental Association (CDA) and the Metro Denver Dental Society (MDDS).  \nScroll down to RSVP. \nDate: Thursday\, January 18\, 2024 \nTime: 6:00pm – 8:00pm \nLocation: \nRocky Mountain Dental Convention (RMDC)\nColorado Convention Center\, Expo Hall Lobby\n700 14th St\nDenver\, CO 80202 \nRate: No cost\nMust be registered for the 2024 RMDC* \n*ADA Presidential Reception attendees MUST be registered for the 2024 Rocky Mountain Dental Convention (RMDC). Current MDDS members are able to register for RMDC for no cost. CDA member dentists can register for $419. If you do not need CE\, you can register for a FREE Expo Hall Only registration. REGISTER FOR RMDC HERE. 
URL:https://mddsdentist.com/event/ada-president-elect-reception/
LOCATION:Colorado Convention Center\, 700 14th St\, Denver\, 80202\, United States
CATEGORIES:employee,general,mdds
GEO:39.742615;-104.9965725
X-APPLE-STRUCTURED-LOCATION;VALUE=URI;X-ADDRESS=Colorado Convention Center 700 14th St Denver 80202 United States;X-APPLE-RADIUS=500;X-TITLE=700 14th St:geo:-104.9965725,39.742615
END:VEVENT
BEGIN:VEVENT
DTSTART;TZID=America/Denver:20240125T080000
DTEND;TZID=America/Denver:20240127T170000
DTSTAMP:20260422T181938
CREATED:20220401T181023Z
LAST-MODIFIED:20240102T171659Z
UID:10059759-1706169600-1706374800@mddsdentist.com
SUMMARY:MWDI Rental: The Dawson Academy-Esthetic Foundations
DESCRIPTION:
URL:https://mddsdentist.com/event/mwdi-rental-the-dawson-academy-esthetic-foundations-tentative/
CATEGORIES:employee,general
END:VEVENT
BEGIN:VEVENT
DTSTART;TZID=America/Denver:20240125T180000
DTEND;TZID=America/Denver:20240125T210000
DTSTAMP:20260422T181938
CREATED:20231221T211842Z
LAST-MODIFIED:20240104T201948Z
UID:10060844-1706205600-1706216400@mddsdentist.com
SUMMARY:MWDI Rental: Peak OMS Presents- Opioids: A Review and Current trends
DESCRIPTION:
URL:https://mddsdentist.com/event/mwdi-rental-peak-oms-presents-opioids-a-review-in-current-trends/
CATEGORIES:employee,general
END:VEVENT
END:VCALENDAR