BEGIN:VCALENDAR
VERSION:2.0
PRODID:-//Metro Denver Dental Society - ECPv6.15.18//NONSGML v1.0//EN
CALSCALE:GREGORIAN
METHOD:PUBLISH
X-WR-CALNAME:Metro Denver Dental Society
X-ORIGINAL-URL:https://mddsdentist.com
X-WR-CALDESC:Events for Metro Denver Dental Society
REFRESH-INTERVAL;VALUE=DURATION:PT1H
X-Robots-Tag:noindex
X-PUBLISHED-TTL:PT1H
BEGIN:VTIMEZONE
TZID:America/Denver
BEGIN:DAYLIGHT
TZOFFSETFROM:-0700
TZOFFSETTO:-0600
TZNAME:MDT
DTSTART:20220313T090000
END:DAYLIGHT
BEGIN:STANDARD
TZOFFSETFROM:-0600
TZOFFSETTO:-0700
TZNAME:MST
DTSTART:20221106T080000
END:STANDARD
BEGIN:DAYLIGHT
TZOFFSETFROM:-0700
TZOFFSETTO:-0600
TZNAME:MDT
DTSTART:20230312T090000
END:DAYLIGHT
BEGIN:STANDARD
TZOFFSETFROM:-0600
TZOFFSETTO:-0700
TZNAME:MST
DTSTART:20231105T080000
END:STANDARD
BEGIN:DAYLIGHT
TZOFFSETFROM:-0700
TZOFFSETTO:-0600
TZNAME:MDT
DTSTART:20240310T090000
END:DAYLIGHT
BEGIN:STANDARD
TZOFFSETFROM:-0600
TZOFFSETTO:-0700
TZNAME:MST
DTSTART:20241103T080000
END:STANDARD
END:VTIMEZONE
BEGIN:VEVENT
DTSTART;TZID=America/Denver:20230914T080000
DTEND;TZID=America/Denver:20230916T170000
DTSTAMP:20260423T203752
CREATED:20220401T181339Z
LAST-MODIFIED:20220401T181339Z
UID:10059760-1694678400-1694883600@mddsdentist.com
SUMMARY:MWDI Rental: The Dawson Academy-Treatment Plannin (Tentative)
DESCRIPTION:
URL:https://mddsdentist.com/event/mwdi-rental-the-dawson-academy-treatment-plannin-tentative/
CATEGORIES:employee,general
END:VEVENT
BEGIN:VEVENT
DTSTART;TZID=America/Denver:20230914T080000
DTEND;TZID=America/Denver:20230916T170000
DTSTAMP:20260423T203752
CREATED:20230901T184704Z
LAST-MODIFIED:20230908T193205Z
UID:10060640-1694678400-1694883600@mddsdentist.com
SUMMARY:MWDI Rental: Exocad Residency
DESCRIPTION:www.globaldentalgallery.com \nContact Viola at 720-587-5865
URL:https://mddsdentist.com/event/mwdi-rental-exocad-residency/
CATEGORIES:employee,general
END:VEVENT
BEGIN:VEVENT
DTSTART;TZID=America/Denver:20230916T090000
DTEND;TZID=America/Denver:20230916T120000
DTSTAMP:20260423T203752
CREATED:20230315T195526Z
LAST-MODIFIED:20230916T144349Z
UID:10060424-1694854800-1694865600@mddsdentist.com
SUMMARY:MDDS Shred Event
DESCRIPTION:Destroy confidential documents with peace of mind and in compliance with State Board rules and regulations. The 2023 Shred Event Drop-off Day is Saturday\, September 16 from 9:00am – 12:00pm at Peebles Prosthetics\, located at 909 Wadsworth Blvd\, Lakewood\, CO 80214. One “banker-sized” box (approx. 10″H x 12″W x 15″D) is just $8 to shred. Larger boxes are $13. Pay on-site by credit card\, cash or check (payable to MDDS). Scroll down to let us know you are coming. \nThis event benefits:  \nDates of Legal Publication Notice: July 21\, 28 and August 4\, 11\, 2023\nDate of Drop-Off Shred Event: Saturday\, September 16\, 2023\nTime of Drop-Off Shred Event: 9:00am – 12:00pm\nRate for Shredding: $8 per “banker-sized” box; $13 for larger box\nLocation of Drop-Off Shred Event:\nPeebles Prosthetics\n909 Wadsworth Blvd\nLakewood\, CO 80214 \nTo access the Colorado Dental Board’s rules and regulations regarding Patient Records Retention\, please click here. The rules begin on page 24.
URL:https://mddsdentist.com/event/mdds-shred-event-23/
LOCATION:Peebles Prosthetics\, 909 Wadsworth Blvd\, Lakewood\, CO\, 80214\, United States
CATEGORIES:Community Outreach,employee,general,mdds
ORGANIZER;CN="MDDS":MAILTO:mdds@mddsdentist.com
END:VEVENT
END:VCALENDAR