BEGIN:VCALENDAR
VERSION:2.0
PRODID:-//Metro Denver Dental Society - ECPv6.15.18//NONSGML v1.0//EN
CALSCALE:GREGORIAN
METHOD:PUBLISH
X-ORIGINAL-URL:https://mddsdentist.com
X-WR-CALDESC:Events for Metro Denver Dental Society
REFRESH-INTERVAL;VALUE=DURATION:PT1H
X-Robots-Tag:noindex
X-PUBLISHED-TTL:PT1H
BEGIN:VTIMEZONE
TZID:America/Denver
BEGIN:DAYLIGHT
TZOFFSETFROM:-0700
TZOFFSETTO:-0600
TZNAME:MDT
DTSTART:20220313T090000
END:DAYLIGHT
BEGIN:STANDARD
TZOFFSETFROM:-0600
TZOFFSETTO:-0700
TZNAME:MST
DTSTART:20221106T080000
END:STANDARD
BEGIN:DAYLIGHT
TZOFFSETFROM:-0700
TZOFFSETTO:-0600
TZNAME:MDT
DTSTART:20230312T090000
END:DAYLIGHT
BEGIN:STANDARD
TZOFFSETFROM:-0600
TZOFFSETTO:-0700
TZNAME:MST
DTSTART:20231105T080000
END:STANDARD
BEGIN:DAYLIGHT
TZOFFSETFROM:-0700
TZOFFSETTO:-0600
TZNAME:MDT
DTSTART:20240310T090000
END:DAYLIGHT
BEGIN:STANDARD
TZOFFSETFROM:-0600
TZOFFSETTO:-0700
TZNAME:MST
DTSTART:20241103T080000
END:STANDARD
END:VTIMEZONE
BEGIN:VEVENT
DTSTART;TZID=America/Denver:20231106T180000
DTEND;TZID=America/Denver:20231106T200000
DTSTAMP:20260423T121735
CREATED:20231010T201936Z
LAST-MODIFIED:20231011T153347Z
UID:10060706-1699293600-1699300800@mddsdentist.com
SUMMARY:MDDS Nonprofit Meet-up
DESCRIPTION:Connect with like-minded colleagues in a relaxed atmosphere at the MDDS Nonprofit Meet-up. Guests will mingle with other public health dentists and oral health nonprofits plus enjoy delicious Italian bites and drinks. \nThis event is open to employees of dental nonprofits and federally qualified health centers and public health dentists. \nScroll down to RSVP. \nDate: Monday\, November 6\, 2023 \nTime: 6:00pm – 8:00pm \nLocation:\nMaggiano’s Little Italy Denver\nPavilions Mall\n500 16th St Mall\, Ste 150\nDenver\, CO 80202\n \nFee: No cost
URL:https://mddsdentist.com/event/mdds-nonprofit-meet-up/
CATEGORIES:Community Outreach,employee,general,mdds
ORGANIZER;CN="MDDS":MAILTO:mdds@mddsdentist.com
END:VEVENT
END:VCALENDAR