BEGIN:VCALENDAR
VERSION:2.0
PRODID:-//Metro Denver Dental Society - ECPv6.15.18//NONSGML v1.0//EN
CALSCALE:GREGORIAN
METHOD:PUBLISH
X-ORIGINAL-URL:https://mddsdentist.com
X-WR-CALDESC:Events for Metro Denver Dental Society
REFRESH-INTERVAL;VALUE=DURATION:PT1H
X-Robots-Tag:noindex
X-PUBLISHED-TTL:PT1H
BEGIN:VTIMEZONE
TZID:America/Denver
BEGIN:DAYLIGHT
TZOFFSETFROM:-0700
TZOFFSETTO:-0600
TZNAME:MDT
DTSTART:20230312T090000
END:DAYLIGHT
BEGIN:STANDARD
TZOFFSETFROM:-0600
TZOFFSETTO:-0700
TZNAME:MST
DTSTART:20231105T080000
END:STANDARD
BEGIN:DAYLIGHT
TZOFFSETFROM:-0700
TZOFFSETTO:-0600
TZNAME:MDT
DTSTART:20240310T090000
END:DAYLIGHT
BEGIN:STANDARD
TZOFFSETFROM:-0600
TZOFFSETTO:-0700
TZNAME:MST
DTSTART:20241103T080000
END:STANDARD
BEGIN:DAYLIGHT
TZOFFSETFROM:-0700
TZOFFSETTO:-0600
TZNAME:MDT
DTSTART:20250309T090000
END:DAYLIGHT
BEGIN:STANDARD
TZOFFSETFROM:-0600
TZOFFSETTO:-0700
TZNAME:MST
DTSTART:20251102T080000
END:STANDARD
END:VTIMEZONE
BEGIN:VEVENT
DTSTART;TZID=America/Denver:20240222T170000
DTEND;TZID=America/Denver:20240222T210000
DTSTAMP:20260422T215042
CREATED:20231108T210146Z
LAST-MODIFIED:20240415T202605Z
UID:10060765-1708621200-1708635600@mddsdentist.com
SUMMARY:MWDI Rental: Denver Implant Study Club
DESCRIPTION:
URL:https://mddsdentist.com/event/mwdi-rental-denver-implant-study-club-tentative-2/2024-02-22/
CATEGORIES:employee,general
END:VEVENT
END:VCALENDAR