BEGIN:VCALENDAR
VERSION:2.0
PRODID:-//Metro Denver Dental Society - ECPv6.15.18//NONSGML v1.0//EN
CALSCALE:GREGORIAN
METHOD:PUBLISH
X-WR-CALNAME:Metro Denver Dental Society
X-ORIGINAL-URL:https://mddsdentist.com
X-WR-CALDESC:Events for Metro Denver Dental Society
REFRESH-INTERVAL;VALUE=DURATION:PT1H
X-Robots-Tag:noindex
X-PUBLISHED-TTL:PT1H
BEGIN:VTIMEZONE
TZID:America/Denver
BEGIN:DAYLIGHT
TZOFFSETFROM:-0700
TZOFFSETTO:-0600
TZNAME:MDT
DTSTART:20220313T090000
END:DAYLIGHT
BEGIN:STANDARD
TZOFFSETFROM:-0600
TZOFFSETTO:-0700
TZNAME:MST
DTSTART:20221106T080000
END:STANDARD
BEGIN:DAYLIGHT
TZOFFSETFROM:-0700
TZOFFSETTO:-0600
TZNAME:MDT
DTSTART:20230312T090000
END:DAYLIGHT
BEGIN:STANDARD
TZOFFSETFROM:-0600
TZOFFSETTO:-0700
TZNAME:MST
DTSTART:20231105T080000
END:STANDARD
BEGIN:DAYLIGHT
TZOFFSETFROM:-0700
TZOFFSETTO:-0600
TZNAME:MDT
DTSTART:20240310T090000
END:DAYLIGHT
BEGIN:STANDARD
TZOFFSETFROM:-0600
TZOFFSETTO:-0700
TZNAME:MST
DTSTART:20241103T080000
END:STANDARD
END:VTIMEZONE
BEGIN:VEVENT
DTSTART;TZID=America/Denver:20231021T080000
DTEND;TZID=America/Denver:20231021T150000
DTSTAMP:20260423T140135
CREATED:20230715T140856Z
LAST-MODIFIED:20230829T183038Z
UID:10060593-1697875200-1697900400@mddsdentist.com
SUMMARY:HANDS-ON Grafting the Socket: Repairing the Simple & Complex
DESCRIPTION:HANDS-ON Grafting the Socket: Repairing the Simple & Complex\nPresented by Dr. Brian Gurinsky \n \nExplore step-by-step treatment possibilities for grafting sockets in preparation for dental implants. Delve into the hands-on application of grafting techniques on sound sockets\, expanded sockets\, and inadequate ridges. \nObjectives   \n\nLearn steps to growing bone \nUnderstand the physiology of bone healing \nLearn techniques for grafting \nParticipate in an in-depth discussion on types of bone materials\, membranes and how to decide when to use what \n\nDr. Brian Gurinsky earned his Doctorate of Dental Surgery at Baylor College of Dentistry. Following graduation\, he continued his education by completing a three-year residency in Periodontics and Dental Implants and a Master’s and certificate in Periodontics from the University of Texas Health Science Center\, San Antonio. He has held faculty appointments with the UTHSC San Antonio\, the University of Colorado School of Dental Medicine and the Louisiana State University School of Dentistry. He has been voted a top dentist in 5280 Magazine every year since 2010. Dr. Gurinsky is the past president of the Metro Denver Dental Society and Rocky Mountain Society of Periodontists. \nCourse equipment and materials are being provided by    \nContinental breakfast and lunch will be provided. \nDate: Saturday\, October 21\, 2023 \nTime: 8:00am – 3:00pm (one-hour lunch) \nRate\n$529 MDDS Member\n$599 Non-MDDS Member \nCE Credits: 6 \nFormat: Hands-on \nCancellation Deadline: October 13\, 2023 \n2 Easy Ways to Register\nOnline – available 24 hours/day\nClick here for online registration \nPhone-In\nAvailable Monday – Friday 8:00am – 5:00pm at (303) 488-9700 \nCancellation Policy\nCancellations will be accepted and are entitled to a refund provided they are received at MDDS by the cancellation deadline. Refunds will not be given for cancellations after the cancellation deadline. \nMWDI Parking Information\nFor your convenience\, we have free parking in two retail garages within the Beauvallon building (east-facing side). Both garages are accessed from Lincoln Street between 9th and 10th Avenues. Parking in these garages is available on a first-come\, first-served basis. **If you are attending a large course/event at the MWDI\, we recommend arriving early in case the garages fill and alternative parking must be secured. Be aware – the garages come up quickly after you cross 9th Avenue and both have left lane entrances. All numbered spaces within both retail parking garages (without “Reserved” signs) are available on a first-come\, first-served basis. Do not park in any spaces with a red sign that says “KCNC.” Do not park in the residential parking. Residential garages are at the back of the retail garages. The north and south garages are not connected. Both have open parking available.
URL:https://mddsdentist.com/event/grafting-the-socket-23/
LOCATION:Mountain West Dental Institute
CATEGORIES:employee,general,mdds
ORGANIZER;CN="MDDS":MAILTO:mdds@mddsdentist.com
END:VEVENT
END:VCALENDAR