BEGIN:VCALENDAR
VERSION:2.0
PRODID:-//Metro Denver Dental Society - ECPv6.15.18//NONSGML v1.0//EN
CALSCALE:GREGORIAN
METHOD:PUBLISH
X-ORIGINAL-URL:https://mddsdentist.com
X-WR-CALDESC:Events for Metro Denver Dental Society
REFRESH-INTERVAL;VALUE=DURATION:PT1H
X-Robots-Tag:noindex
X-PUBLISHED-TTL:PT1H
BEGIN:VTIMEZONE
TZID:America/Denver
BEGIN:DAYLIGHT
TZOFFSETFROM:-0700
TZOFFSETTO:-0600
TZNAME:MDT
DTSTART:20220313T090000
END:DAYLIGHT
BEGIN:STANDARD
TZOFFSETFROM:-0600
TZOFFSETTO:-0700
TZNAME:MST
DTSTART:20221106T080000
END:STANDARD
BEGIN:DAYLIGHT
TZOFFSETFROM:-0700
TZOFFSETTO:-0600
TZNAME:MDT
DTSTART:20230312T090000
END:DAYLIGHT
BEGIN:STANDARD
TZOFFSETFROM:-0600
TZOFFSETTO:-0700
TZNAME:MST
DTSTART:20231105T080000
END:STANDARD
BEGIN:DAYLIGHT
TZOFFSETFROM:-0700
TZOFFSETTO:-0600
TZNAME:MDT
DTSTART:20240310T090000
END:DAYLIGHT
BEGIN:STANDARD
TZOFFSETFROM:-0600
TZOFFSETTO:-0700
TZNAME:MST
DTSTART:20241103T080000
END:STANDARD
END:VTIMEZONE
BEGIN:VEVENT
DTSTART;TZID=America/Denver:20231113T190000
DTEND;TZID=America/Denver:20231113T210000
DTSTAMP:20260423T081316
CREATED:20231023T175245Z
LAST-MODIFIED:20231023T175245Z
UID:10060744-1699902000-1699909200@mddsdentist.com
SUMMARY:MWDI Rental: The Beauvallon
DESCRIPTION:
URL:https://mddsdentist.com/event/mwdi-rental-the-beauvallon/
CATEGORIES:employee,general
END:VEVENT
BEGIN:VEVENT
DTSTART;TZID=America/Denver:20231115T180000
DTEND;TZID=America/Denver:20231115T193000
DTSTAMP:20260423T081316
CREATED:20231010T211144Z
LAST-MODIFIED:20231106T181405Z
UID:10060707-1700071200-1700076600@mddsdentist.com
SUMMARY:University of Colorado School of Dental Medicine Networking Night
DESCRIPTION:MDDS and CDA have partnered with the University of Colorado School of Dental Medicine to host the first Connections in Dentistry Networking Night. We hope you feel inspired to invest in the next generation of dentists by attending this social event. Our goal is to connect future dentists with current members of the dental community. RSVP to enjoy delicious local brews\, a taco bar and make an impact on the future of dentistry in Colorado. \nDate: Wednesday\, November 15\, 2023 \nTime: 6:00pm – 7:30pm \nCost: No cost \nLocation:\nCheluna Brewing Company\n2501 Dallas St #148\nAurora\, CO 80010 \nRegistration Deadline: Friday\, November 10\, 2023 \nQuestions?\nContact Nicole Dole\, UCSDM\, at nicole.dole@cuanschutz.com or (303) 724-7120.
URL:https://mddsdentist.com/event/university-of-colorado-school-of-dental-medicine-networking-night/
LOCATION:Cheluna Brewing Company\, 2501 Dallas St\, Aurora\, CO\, 80010\, United States
CATEGORIES:employee,general,mdds
ATTACH;FMTTYPE=image/jpeg:https://mddsdentist.com/wp-content/uploads/2023/10/Student-Networking-Website.jpeg
END:VEVENT
BEGIN:VEVENT
DTSTART;TZID=America/Denver:20231117T080000
DTEND;TZID=America/Denver:20231117T170000
DTSTAMP:20260423T081316
CREATED:20230710T173825Z
LAST-MODIFIED:20230916T174720Z
UID:10060566-1700208000-1700240400@mddsdentist.com
SUMMARY:MWDI Rental: Biolase-Diode Hands on Training
DESCRIPTION:
URL:https://mddsdentist.com/event/mwdi-rental-biolase-diode-hands-on-training-tentative/
CATEGORIES:employee,general
END:VEVENT
END:VCALENDAR