BEGIN:VCALENDAR
VERSION:2.0
PRODID:-//Metro Denver Dental Society - ECPv6.15.18//NONSGML v1.0//EN
CALSCALE:GREGORIAN
METHOD:PUBLISH
X-ORIGINAL-URL:https://mddsdentist.com
X-WR-CALDESC:Events for Metro Denver Dental Society
REFRESH-INTERVAL;VALUE=DURATION:PT1H
X-Robots-Tag:noindex
X-PUBLISHED-TTL:PT1H
BEGIN:VTIMEZONE
TZID:America/Denver
BEGIN:DAYLIGHT
TZOFFSETFROM:-0700
TZOFFSETTO:-0600
TZNAME:MDT
DTSTART:20210314T090000
END:DAYLIGHT
BEGIN:STANDARD
TZOFFSETFROM:-0600
TZOFFSETTO:-0700
TZNAME:MST
DTSTART:20211107T080000
END:STANDARD
BEGIN:DAYLIGHT
TZOFFSETFROM:-0700
TZOFFSETTO:-0600
TZNAME:MDT
DTSTART:20220313T090000
END:DAYLIGHT
BEGIN:STANDARD
TZOFFSETFROM:-0600
TZOFFSETTO:-0700
TZNAME:MST
DTSTART:20221106T080000
END:STANDARD
BEGIN:DAYLIGHT
TZOFFSETFROM:-0700
TZOFFSETTO:-0600
TZNAME:MDT
DTSTART:20230312T090000
END:DAYLIGHT
BEGIN:STANDARD
TZOFFSETFROM:-0600
TZOFFSETTO:-0700
TZNAME:MST
DTSTART:20231105T080000
END:STANDARD
BEGIN:DAYLIGHT
TZOFFSETFROM:-0700
TZOFFSETTO:-0600
TZNAME:MDT
DTSTART:20240310T090000
END:DAYLIGHT
BEGIN:STANDARD
TZOFFSETFROM:-0600
TZOFFSETTO:-0700
TZNAME:MST
DTSTART:20241103T080000
END:STANDARD
END:VTIMEZONE
BEGIN:VEVENT
DTSTART;TZID=America/Denver:20221202T080000
DTEND;TZID=America/Denver:20221203T170000
DTSTAMP:20260419T185534
CREATED:20211026T174450Z
LAST-MODIFIED:20211026T174450Z
UID:10059521-1669968000-1670086800@mddsdentist.com
SUMMARY:MWDI Rental: The OBI Foundation-Level 4
DESCRIPTION:
URL:https://mddsdentist.com/event/mwdi-rental-the-obi-foundation-level-4-6/
CATEGORIES:employee,general
END:VEVENT
BEGIN:VEVENT
DTSTART;TZID=America/Denver:20221203T080000
DTEND;TZID=America/Denver:20221203T160000
DTSTAMP:20260419T185534
CREATED:20220601T224917Z
LAST-MODIFIED:20221020T182413Z
UID:10059825-1670054400-1670083200@mddsdentist.com
SUMMARY:MDDS Presents: HANDS-ON Nitrous Oxide/Oxygen Administration Training - SOLD OUT
DESCRIPTION:HANDS-ON Nitrous Oxide/Oxygen Administration Training – SOLD OUT\nPresented by Dr. Jeffrey Young \n \nAnxiety and pain are two of the main obstacles to the acceptance of dental care. Appropriate administration and use of Nitrous Oxide/Oxygen can be a safe\, effective means to alleviate mild to moderate fear and anxiety. In addition\, it may diminish responses to pain and elevate pain threshold. \nThis course will provide an introduction to the pharmacology\, mechanism of action and effects of Nitrous Oxide/Oxygen. The goals of anxiolysis\, including clinical applications\, indications\, advantages/disadvantages and biohazards of administration will be presented. The monitoring and recognition of potential complications will be discussed. \nA review of Nitrous Oxide/Oxygen equipment and technique for safe administration will be presented followed by a demonstration of the administration and use of Nitrous Oxide/Oxygen inhalation equipment in a dental clinic setting. Participants will then practice administration and monitoring using actual inhalation equipment. \nThis is a one-day course with approximately five (5) hours of classroom instruction followed by two (2) hours of clinical demonstration and practice. At the end of this course\, participants will clearly understand the indications for use of Nitrous Oxide/Oxygen and be able to provide safe administration and monitoring. \nObjectives \n\nDiscuss and understand the basic pharmacology and effects of Nitrous Oxide/Oxygen\nReview the anesthesia continuum and the Colorado State Board of Dentistry regulations regarding the administration and monitoring of Nitrous Oxide/Oxygen in the dental office\nKnow the goals of anxiolysis including advantages and disadvantages of inhalation administration\nDiscuss indications and contraindications for safe administration of Nitrous Oxide/Oxygen\nUnderstand how to monitor patients and recognize potential complications of Nitrous Oxide/Oxygen\nReview the inhalation equipment used for administration of Nitrous Oxide/Oxygen in dental offices\nBecome proficient in administration and monitoring of Nitrous Oxide/Oxygen by practicing with inhalation equipment in a clinical setting\n\nDr. Jeffrey Young earned his DDS from the University of Iowa and is a retired Army Colonel. He is a former Associate Professor at the University of Colorado School of Dental Medicine and served as Director of the Sedation Program at Children’s Hospital Colorado\, Pediatric Dental Residency Program. He currently owns a private pediatric dental practice in Brush\, CO. \nContinental breakfast and lunch provided. \nDate\nSaturday\, December 3\, 2022 \nTime\n8:00am – 4:00pm (one-hour lunch) \nRate\n$435 MDDS Member – SOLD OUT\n$435 MDDS Member Staff – SOLD OUT\n$535 Non-MDDS Member – SOLD OUT\n$535 Non-MDDS Member Staff – SOLD OUT \nCE Credits: 7 (4 additional patient hours completed outside of class) \nFormat: Lecture/Hands-on \nRegistration Deadline: November 21\, 2022 \nCancellation Deadline: November 25\, 2022 \n2 Easy Ways to Register\nOnline – available 24 hours/day\nClick here for online registration \nPhone-In\nAvailable Monday – Friday 8:00am – 5:00pm at (303) 488-9700 \nCancellation Policy\nCancellations will be accepted and are entitled to a refund provided they are received at MDDS by the cancellation deadline. Refunds will not be given for cancellations after the cancellation deadline. \nMWDI Parking Information\nFor your convenience\, we have free parking in two retail garages within the Beauvallon building (east-facing side). Both garages are accessed from Lincoln Street between 9th and 10th Avenues. Parking in these garages is available on a first-come\, first-served basis. **If you are attending a large course/event at the MWDI\, we recommend arriving early in case the garages fill and alternative parking must be secured. Be aware – the garages come up quickly after you cross 9th Avenue and both have left lane entrances. All numbered spaces within both retail parking garages (without “Reserved” signs) are available on a first-come\, first-served basis. Do not park in any spaces with a red sign that says “Matrix” or “KCNC.” Do not park in the residential parking. Residential garages are at the back of the retail garages. The north and south garages are not connected. Both have open parking available. See link for more information.
URL:https://mddsdentist.com/event/mdds-presents-hands-on-nitrous-oxide-oxygen-administration-training-3/
LOCATION:Mountain West Dental Institute
CATEGORIES:employee,general,mdds,volunteer
END:VEVENT
BEGIN:VEVENT
DTSTART;VALUE=DATE:20221205
DTEND;VALUE=DATE:20221206
DTSTAMP:20260419T185534
CREATED:20211105T164948Z
LAST-MODIFIED:20211105T164948Z
UID:10059570-1670198400-1670284799@mddsdentist.com
SUMMARY:KIND
DESCRIPTION:
URL:https://mddsdentist.com/event/kind-16/2022-12-05/
CATEGORIES:employee,general
END:VEVENT
BEGIN:VEVENT
DTSTART;VALUE=DATE:20221219
DTEND;VALUE=DATE:20221220
DTSTAMP:20260419T185534
CREATED:20211105T164948Z
LAST-MODIFIED:20211105T164948Z
UID:10059571-1671408000-1671494399@mddsdentist.com
SUMMARY:KIND
DESCRIPTION:
URL:https://mddsdentist.com/event/kind-16/2022-12-19/
CATEGORIES:employee,general
END:VEVENT
BEGIN:VEVENT
DTSTART;TZID=America/Denver:20230104T080000
DTEND;TZID=America/Denver:20230106T170000
DTSTAMP:20260419T185534
CREATED:20211101T221425Z
LAST-MODIFIED:20211101T221425Z
UID:10059548-1672819200-1673024400@mddsdentist.com
SUMMARY:RMDC prep
DESCRIPTION:
URL:https://mddsdentist.com/event/rmdc-prep/
CATEGORIES:employee,general
END:VEVENT
BEGIN:VEVENT
DTSTART;TZID=America/Denver:20230109T080000
DTEND;TZID=America/Denver:20230109T170000
DTSTAMP:20260419T185534
CREATED:20221215T160337Z
LAST-MODIFIED:20230619T154005Z
UID:10060214-1673251200-1673283600@mddsdentist.com
SUMMARY:KIND
DESCRIPTION:
URL:https://mddsdentist.com/event/kind-17/2023-01-09/
CATEGORIES:employee,general
END:VEVENT
BEGIN:VEVENT
DTSTART;TZID=America/Denver:20230117T080000
DTEND;TZID=America/Denver:20230122T170000
DTSTAMP:20260419T185534
CREATED:20220711T163224Z
LAST-MODIFIED:20220711T163224Z
UID:10059875-1673942400-1674406800@mddsdentist.com
SUMMARY:Rocky Mountain Dental Convention
DESCRIPTION:
URL:https://mddsdentist.com/event/rocky-mountain-dental-convention-2/
CATEGORIES:employee,general
END:VEVENT
BEGIN:VEVENT
DTSTART;VALUE=DATE:20230119
DTEND;VALUE=DATE:20230122
DTSTAMP:20260419T185534
CREATED:20221212T233628Z
LAST-MODIFIED:20221212T233628Z
UID:10060213-1674086400-1674345599@mddsdentist.com
SUMMARY:2023 Rocky Mountain Dental Convention (RMDC)
DESCRIPTION:The Metro Denver Dental Society (MDDS) proudly presents the Rocky Mountain Dental Convention (RMDC) on January 19-21\, 2023. This in-person event will take place in beautiful downtown Denver at the Colorado Convention Center. Dental professionals from across the region will reconnect over 75 in-person lectures and hands-on workshops\, a 250+ booth Expo Hall and networking and social gatherings including the Friday night Dueling Piano Party and Sips & Shopping Happy Hours. \nDate: January 19 – 21\, 2023 \nTime: 8:00am – 6:00pm daily \nLocation:\nColorado Convention Center\n700 14th St\nDenver\, CO 80202 \nRate: No cost for MDDS members\, all other rates vary. Learn more here.
URL:https://mddsdentist.com/event/2023-rocky-mountain-dental-convention-rmdc/
LOCATION:Colorado Convention Center\, 700 14th St\, Denver\, 80202\, United States
CATEGORIES:employee,general,mdds
ATTACH;FMTTYPE=image/jpeg:https://mddsdentist.com/wp-content/uploads/2022/12/2023-RMDC-1.jpg
ORGANIZER;CN="MDDS":MAILTO:mdds@mddsdentist.com
GEO:39.742615;-104.9965725
X-APPLE-STRUCTURED-LOCATION;VALUE=URI;X-ADDRESS=Colorado Convention Center 700 14th St Denver 80202 United States;X-APPLE-RADIUS=500;X-TITLE=700 14th St:geo:-104.9965725,39.742615
END:VEVENT
BEGIN:VEVENT
DTSTART;TZID=America/Denver:20230123T080000
DTEND;TZID=America/Denver:20230123T170000
DTSTAMP:20260419T185534
CREATED:20221215T160337Z
LAST-MODIFIED:20230619T154005Z
UID:10060216-1674460800-1674493200@mddsdentist.com
SUMMARY:KIND
DESCRIPTION:
URL:https://mddsdentist.com/event/kind-17/2023-01-23/
CATEGORIES:employee,general
END:VEVENT
BEGIN:VEVENT
DTSTART;TZID=America/Denver:20230203T080000
DTEND;TZID=America/Denver:20230204T170000
DTSTAMP:20260419T185534
CREATED:20211026T174538Z
LAST-MODIFIED:20211026T174538Z
UID:10059522-1675411200-1675530000@mddsdentist.com
SUMMARY:MWDI Rental: The OBI Foundation-Level 4
DESCRIPTION:
URL:https://mddsdentist.com/event/mwdi-rental-the-obi-foundation-level-4-7/
CATEGORIES:employee,general
END:VEVENT
BEGIN:VEVENT
DTSTART;TZID=America/Denver:20230203T080000
DTEND;TZID=America/Denver:20230204T170000
DTSTAMP:20260419T185534
CREATED:20220517T190309Z
LAST-MODIFIED:20220517T190309Z
UID:10059814-1675411200-1675530000@mddsdentist.com
SUMMARY:MWDI Rental: The OBI Foundation-Level 2 (tentative)
DESCRIPTION:
URL:https://mddsdentist.com/event/mwdi-rental-the-obi-foundation-level-2-tentative-3/
CATEGORIES:employee,general
END:VEVENT
BEGIN:VEVENT
DTSTART;TZID=America/Denver:20230206T080000
DTEND;TZID=America/Denver:20230206T170000
DTSTAMP:20260419T185534
CREATED:20221215T160337Z
LAST-MODIFIED:20230619T154005Z
UID:10060239-1675670400-1675702800@mddsdentist.com
SUMMARY:KIND
DESCRIPTION:
URL:https://mddsdentist.com/event/kind-17/2023-02-06/
CATEGORIES:employee,general
END:VEVENT
BEGIN:VEVENT
DTSTART;TZID=America/Denver:20230208T180000
DTEND;TZID=America/Denver:20230208T203000
DTSTAMP:20260419T185534
CREATED:20221107T215329Z
LAST-MODIFIED:20230130T221243Z
UID:10060134-1675879200-1675888200@mddsdentist.com
SUMMARY:MDDS Presents: CPR & AED Training
DESCRIPTION:CPR & AED Training\nPresented by CPR Choice \nThis program is ideal for all dental office personnel who need CPR & AED recertification. This course is certified by both the American Heart Association (AHA) and the American Safety & Health Institute (ASHI). \nDate: Wednesday\, February 8\, 2023 \nTime: 6:00pm – 8:30pm \nRate:\n$69 MDDS Member\n$69 MDDS Member Staff\n$79 Non-MDDS Member\n$79 Non-MDDS Member Staff \nCE Credits: 2.5 \nFormat: Lecture/Hands-on \nRegistration Deadline: February 3\, 2023 \nCancellation Deadline: February 3\, 2023 \n2 Easy Ways to Register\nOnline – available 24 hours/day\nClick here to register online \nPhone-In\nAvailable Monday – Friday 8:00am – 5:00pm at (303) 488-9700 \nCancellation Policy\nCancellations will be accepted and are entitled to a refund provided they are received at MDDS by the cancellation deadline of each course. Refunds will not be made for cancellations after the cancellation deadline. \nMWDI Parking Information\nFor your convenience\, we have free parking in two retail garages within the Beauvallon building (east-facing side). Both garages are accessed from Lincoln Street between 9th and 10th Avenues. Parking in these garages is available on a first-come\, first-served basis. ** If you are attending a large course/event at the MWDI\, we recommend arriving early in case the garages fill and alternative parking must be secured. Be aware – The garages come up quickly after you cross 9th Avenue and both have left lane entrances. All numbered spaces within both retail parking garages (without “Reserved” signs) are available on a first-come\, first-served basis. Do not park in any spaces marked  “KCNC.” Do not park in the residential parking. Residential garages are at the back of the retail garages. The north and south garages are not connected. Both have open parking available. See link for more information.
URL:https://mddsdentist.com/event/mdds-presents-cpr-aed-training-2-23/
LOCATION:Mountain West Dental Institute
CATEGORIES:employee,general,mdds,volunteer
ATTACH;FMTTYPE=image/jpeg:https://mddsdentist.com/wp-content/uploads/2020/03/cpr-2020-web.jpg
ORGANIZER;CN="MDDS":MAILTO:mdds@mddsdentist.com
END:VEVENT
BEGIN:VEVENT
DTSTART;TZID=America/Denver:20230216T180000
DTEND;TZID=America/Denver:20230216T203000
DTSTAMP:20260419T185534
CREATED:20221007T153343Z
LAST-MODIFIED:20230329T185353Z
UID:10060094-1676570400-1676579400@mddsdentist.com
SUMMARY:MWDI rental: Denver Implant Study Club
DESCRIPTION:
URL:https://mddsdentist.com/event/mwdi-rental-denver-implant-study-club-tentative/2023-02-16/
CATEGORIES:employee,general
END:VEVENT
BEGIN:VEVENT
DTSTART;TZID=America/Denver:20230220T080000
DTEND;TZID=America/Denver:20230220T170000
DTSTAMP:20260419T185534
CREATED:20221215T160337Z
LAST-MODIFIED:20230619T154005Z
UID:10060240-1676880000-1676912400@mddsdentist.com
SUMMARY:KIND
DESCRIPTION:
URL:https://mddsdentist.com/event/kind-17/2023-02-20/
CATEGORIES:employee,general
END:VEVENT
BEGIN:VEVENT
DTSTART;TZID=America/Denver:20230221T180000
DTEND;TZID=America/Denver:20230221T200000
DTSTAMP:20260419T185534
CREATED:20230215T005643Z
LAST-MODIFIED:20230215T005643Z
UID:10060323-1677002400-1677009600@mddsdentist.com
SUMMARY:MWDI Rental: Beauvallon HOA
DESCRIPTION:
URL:https://mddsdentist.com/event/mwdi-rental-beauvallon-hoa/
CATEGORIES:employee,general
END:VEVENT
BEGIN:VEVENT
DTSTART;TZID=America/Denver:20230223T180000
DTEND;TZID=America/Denver:20230223T200000
DTSTAMP:20260419T185534
CREATED:20221212T183527Z
LAST-MODIFIED:20230728T140611Z
UID:10060193-1677175200-1677182400@mddsdentist.com
SUMMARY:MWDI Rental: Airway Study Club
DESCRIPTION:
URL:https://mddsdentist.com/event/mwdi-rental-airway-study-club/2023-02-23/
CATEGORIES:employee,general
END:VEVENT
BEGIN:VEVENT
DTSTART;TZID=America/Denver:20230223T183000
DTEND;TZID=America/Denver:20230223T203000
DTSTAMP:20260419T185534
CREATED:20220809T191953Z
LAST-MODIFIED:20230216T165234Z
UID:10059919-1677177000-1677184200@mddsdentist.com
SUMMARY:MDDS February Social
DESCRIPTION:Stay cozy and enjoy craft cocktails and a variety of delicious bites from the many vendors in the Denver Milk Market at the MDDS February Social. Join your colleagues\, other members and new friends at the Moo Bar Lounge on Thursday\, February 23\, 2023. \nAll MDDS member dentists are invited to attend this NO COST event. Scroll down to RSVP. \nDate: Thursday\, February 23\, 2023 \nTime: 6:30pm – 8:30pm \nRate: No cost \nLocation:\nMoo Bar Lounge @ Denver Milk Market\n1800 Wazee St #100\nDenver\, CO 80202 \nSponsored by: \n         
URL:https://mddsdentist.com/event/mdds-february-social-23/
LOCATION:Denver Milk Market\, 1800 Wazee St\, #100\, CO\, 80202\, United States
CATEGORIES:employee,general,mdds
ORGANIZER;CN="MDDS":MAILTO:mdds@mddsdentist.com
END:VEVENT
BEGIN:VEVENT
DTSTART;TZID=America/Denver:20230224T080000
DTEND;TZID=America/Denver:20230224T160000
DTSTAMP:20260419T185534
CREATED:20230106T181626Z
LAST-MODIFIED:20230106T181626Z
UID:10060276-1677225600-1677254400@mddsdentist.com
SUMMARY:MWDI Rental: Biolase
DESCRIPTION:
URL:https://mddsdentist.com/event/mwdi-rental-biolase/
CATEGORIES:employee,general
END:VEVENT
BEGIN:VEVENT
DTSTART;TZID=America/Denver:20230224T080000
DTEND;TZID=America/Denver:20230225T170000
DTSTAMP:20260419T185534
CREATED:20230214T225431Z
LAST-MODIFIED:20230214T235944Z
UID:10060316-1677225600-1677344400@mddsdentist.com
SUMMARY:MWDI Rental: The OBI Foundation
DESCRIPTION:
URL:https://mddsdentist.com/event/mwdi-rental-the-obi-foundation-2/
CATEGORIES:employee,general
END:VEVENT
BEGIN:VEVENT
DTSTART;TZID=America/Denver:20230228T180000
DTEND;TZID=America/Denver:20230228T200000
DTSTAMP:20260419T185534
CREATED:20230201T021043Z
LAST-MODIFIED:20230201T021043Z
UID:10060302-1677607200-1677614400@mddsdentist.com
SUMMARY:RMDC Exhibits Committee Meeting
DESCRIPTION:
URL:https://mddsdentist.com/event/rmdc-exhibits-committee-meeting-2/
CATEGORIES:general
END:VEVENT
BEGIN:VEVENT
DTSTART;TZID=America/Denver:20230302T080000
DTEND;TZID=America/Denver:20230302T170000
DTSTAMP:20260419T185534
CREATED:20230227T190202Z
LAST-MODIFIED:20230227T190202Z
UID:10060368-1677744000-1677776400@mddsdentist.com
SUMMARY:MWDI Rental: The OBI Foundation
DESCRIPTION:
URL:https://mddsdentist.com/event/mwdi-rental-the-obi-foundation-3/
CATEGORIES:employee,general
END:VEVENT
BEGIN:VEVENT
DTSTART;VALUE=DATE:20230303
DTEND;VALUE=DATE:20230305
DTSTAMP:20260419T185534
CREATED:20220124T145756Z
LAST-MODIFIED:20220912T165344Z
UID:10059645-1677801600-1677974399@mddsdentist.com
SUMMARY:MWDI Rental: The OBI Foundation-level 3 (tentative)
DESCRIPTION:
URL:https://mddsdentist.com/event/mwdi-rental-the-obi-foundation-level-3-tentative/
CATEGORIES:employee,general
END:VEVENT
BEGIN:VEVENT
DTSTART;TZID=America/Denver:20230304T110000
DTEND;TZID=America/Denver:20230304T140000
DTSTAMP:20260419T185534
CREATED:20200210T213009Z
LAST-MODIFIED:20230222T171656Z
UID:10058596-1677927600-1677938400@mddsdentist.com
SUMMARY:CDA & MDDS Women in Dentistry Event - SOLD OUT
DESCRIPTION:Join the CDA and MDDS for a fun afternoon of cocktails\, creating\, and connecting at Upstairs Circus DTC. Craft jewelry\, artwork\, or a home project while networking with fellow female dentists. \nDate: Saturday\, March 4\, 2023 \nTime: 11:00am – 2:00pm \nLocation: Upstairs Circus DTC\n5370 Greenwood Plaza Blvd\, #106\nGreenwood Village\, CO 80111 \nFee: SOLD OUT \nRegistration Deadline: Wednesday\, March 1\, 2023 \nCancellation Deadline: Friday\, February 24\, 2023 \nCancellation Policy\nCancellations will be accepted and are entitled to a refund provided they are received at MDDS or CDA by the cancellation deadline. Refunds will not be made for cancellations after the cancellation deadline. \nThis event is sponsored by: \n           
URL:https://mddsdentist.com/event/women-dentist-event-hosted-by-cda-mdds/
LOCATION:Upstairs Stairs Circus – DTC\, 5370 Greenwood plaza Blvd\, #106\, Greenwood Village\, CO\, 80111\, United States
CATEGORIES:employee,general,mdds,volunteer
END:VEVENT
BEGIN:VEVENT
DTSTART;TZID=America/Denver:20230306T080000
DTEND;TZID=America/Denver:20230306T170000
DTSTAMP:20260419T185534
CREATED:20221215T160337Z
LAST-MODIFIED:20230619T154005Z
UID:10060241-1678089600-1678122000@mddsdentist.com
SUMMARY:KIND
DESCRIPTION:
URL:https://mddsdentist.com/event/kind-17/2023-03-06/
CATEGORIES:employee,general
END:VEVENT
BEGIN:VEVENT
DTSTART;VALUE=DATE:20230310
DTEND;VALUE=DATE:20230312
DTSTAMP:20260419T185534
CREATED:20221007T154322Z
LAST-MODIFIED:20230215T003544Z
UID:10060154-1678406400-1678579199@mddsdentist.com
SUMMARY:MWDI Rental: Biolase
DESCRIPTION:
URL:https://mddsdentist.com/event/mwdi-rental-biolase-waterlase-exclusive-trail-program-tentative/
CATEGORIES:employee,general
END:VEVENT
BEGIN:VEVENT
DTSTART;TZID=America/Denver:20230316T080000
DTEND;TZID=America/Denver:20230316T170000
DTSTAMP:20260419T185534
CREATED:20221212T182854Z
LAST-MODIFIED:20230304T153848Z
UID:10060190-1678953600-1678986000@mddsdentist.com
SUMMARY:Dawson set-up (jk)
DESCRIPTION:
URL:https://mddsdentist.com/event/dawson-jk-cs/
CATEGORIES:employee
END:VEVENT
BEGIN:VEVENT
DTSTART;TZID=America/Denver:20230316T183000
DTEND;TZID=America/Denver:20230316T193000
DTSTAMP:20260419T185534
CREATED:20230209T222535Z
LAST-MODIFIED:20230301T195740Z
UID:10060312-1678991400-1678995000@mddsdentist.com
SUMMARY:Learn to Lead - A Women Dentists Webinar
DESCRIPTION:Presented by Ms. Ricki Braswell\, CAE \nWhat\, nobody told you that part of being a dentist was going to be tied with being a leader?! That must have been the one class you missed in dental school! Don’t worry\, I’ve got you covered. \nLeadership is not a trait you are born with. Leadership requires skills that we develop and hone over time. And although it takes some practice\, it doesn’t have to be complicated or frustrating\, which you will discover during this 60-minute\, interactive session when you will learn: \n\nHow to set clear expectations for your team members’ performance\nWhich five areas of performance are key to ensuring success\nHow to help your team commit to supporting the goals of the practice\n\nIf you want to take the first steps to build leadership skills that last\, this is a can’t-miss session. \nRicki Braswell\, CAE\, has spent nearly 20 years serving as an executive for nonprofit dental organizations. Most recently\, she was the CEO of The Pankey Institute for approximately eight years. During her time in dentistry\, Ricki has had the unique opportunity to learn the laboratory and clinical aspects of the profession. She has successfully turned around organizations that struggled with sustainability in changing markets. In addition\, she has turned lagging organizations into thriving organizations and developed teams who demonstrated a commitment and culture which bolstered the organizations. As a former CEO and now a coach\, she helps others make the most of their strengths to succeed. Ricki partners with dentists and dental executives to identify what’s really important and to hone the behaviors and thinking that support achieving their personal and practice goals. \nDate: Thursday\, March 16\, 2023 \nTime: 6:30pm – 7:30pm MST \nLocation: Virtual via Zoom \nRate:\n$0 – CDA/MDDS members\n$25 – Non-CDA/MDDS members \nCE Credits: 1 \nFormat: Virtual Interactive Lecture \n2 Easy Ways to Register\nOnline – available 24 hours/day\nClick here to register online \nPhone-In\nAvailable Monday – Friday 8:00am – 5:00pm at (303) 488-9700 \nCancellation Policy\nCancellations will be accepted and are entitled to a refund provided they are received at MDDS by the cancellation deadline of each course. Refunds will not be made for cancellations after the cancellation deadline. \nThis webinar is presented in partnership with the Colorado Dental Association Ladies in the Loupe and is for dentists only and is part of woman-dentist-specific programming for Women’s History Month. A Zoom link will be sent prior to the event. 
URL:https://mddsdentist.com/event/learn-to-lead/
CATEGORIES:employee,general,mdds
END:VEVENT
BEGIN:VEVENT
DTSTART;TZID=America/Denver:20230317T080000
DTEND;TZID=America/Denver:20230318T170000
DTSTAMP:20260419T185534
CREATED:20220401T180526Z
LAST-MODIFIED:20220401T180526Z
UID:10059756-1679040000-1679158800@mddsdentist.com
SUMMARY:MWDI Rental: The Dawson Academy-Seminar 1 Functional Occlusion (Tentative)
DESCRIPTION:
URL:https://mddsdentist.com/event/mwdi-rental-the-dawson-academy-seminar-1-functional-occlusion-tentative/
CATEGORIES:employee,general
END:VEVENT
BEGIN:VEVENT
DTSTART;TZID=America/Denver:20230320T080000
DTEND;TZID=America/Denver:20230320T170000
DTSTAMP:20260419T185534
CREATED:20221215T160337Z
LAST-MODIFIED:20230619T154005Z
UID:10060242-1679299200-1679331600@mddsdentist.com
SUMMARY:KIND
DESCRIPTION:
URL:https://mddsdentist.com/event/kind-17/2023-03-20/
CATEGORIES:employee,general
END:VEVENT
END:VCALENDAR