BEGIN:VCALENDAR
VERSION:2.0
PRODID:-//Metro Denver Dental Society - ECPv6.15.18//NONSGML v1.0//EN
CALSCALE:GREGORIAN
METHOD:PUBLISH
X-WR-CALNAME:Metro Denver Dental Society
X-ORIGINAL-URL:https://mddsdentist.com
X-WR-CALDESC:Events for Metro Denver Dental Society
REFRESH-INTERVAL;VALUE=DURATION:PT1H
X-Robots-Tag:noindex
X-PUBLISHED-TTL:PT1H
BEGIN:VTIMEZONE
TZID:America/Denver
BEGIN:DAYLIGHT
TZOFFSETFROM:-0700
TZOFFSETTO:-0600
TZNAME:MDT
DTSTART:20170312T090000
END:DAYLIGHT
BEGIN:STANDARD
TZOFFSETFROM:-0600
TZOFFSETTO:-0700
TZNAME:MST
DTSTART:20171105T080000
END:STANDARD
BEGIN:DAYLIGHT
TZOFFSETFROM:-0700
TZOFFSETTO:-0600
TZNAME:MDT
DTSTART:20180311T090000
END:DAYLIGHT
BEGIN:STANDARD
TZOFFSETFROM:-0600
TZOFFSETTO:-0700
TZNAME:MST
DTSTART:20181104T080000
END:STANDARD
BEGIN:DAYLIGHT
TZOFFSETFROM:-0700
TZOFFSETTO:-0600
TZNAME:MDT
DTSTART:20190310T090000
END:DAYLIGHT
BEGIN:STANDARD
TZOFFSETFROM:-0600
TZOFFSETTO:-0700
TZNAME:MST
DTSTART:20191103T080000
END:STANDARD
END:VTIMEZONE
BEGIN:VEVENT
DTSTART;TZID=America/Denver:20181109T080000
DTEND;TZID=America/Denver:20181109T160000
DTSTAMP:20260419T225946
CREATED:20180620T005334Z
LAST-MODIFIED:20220921T030746Z
UID:10056629-1541750400-1541779200@mddsdentist.com
SUMMARY:MDDS Presents: HANDS-ON Advanced Implant Placement Grafting: A Two-Day Workshop Utilizing Cadaver Specimens
DESCRIPTION:HANDS-ON Advanced Implant Placement Grafting: A Two-Day Workshop Utilizing Cadaver Specimens\nPresented by Dr. Charles Schlesinger \nThis intensive two-day workshop is ideal for clinicians ready to delve deeper into implant dentistry and improve their understanding of and ability to utilize more advanced techniques in guided bone and guided tissue regeneration. Each participant receives instruction through in-depth lectures and hands-on surgical experiences utilizing anatomical models\, as well as medical cadavers. \nPre-requisite: It is suggested that participants have experience placing 10 or more implant cases. \nEducation Objectives \n\nAnatomy: Review of landmarks and hard and soft tissue considerations\nImmediate implant placement into a fresh extraction site*\nPatient selection and treatment planning\nBone graft and membrane materials: Which to use where and why*\nHarvesting of autogenous bone*\nSuturing and knot tying technique*\nAtraumatic extractions*\nIncision and flap designs that can make a difference*\nSinus elevations: Internal and lateral approach*\nImplant placement into sinus grafts: Immediate or delayed and why*\nGrafting to repair the ailing/failing implant*\nRidge augmentation to increase the ridge width*\nRidge split technique: Immediate or delayed implant placement and why*\nComplications and treatment options\nDrugs and prescriptions\nThe importance of consent forms\n\n*Hands-on Component \nDr. Charles Schlesinger is a dental implant educator and clinician who has been lecturing internationally for more than 10 years. He graduated with honors from The Ohio State College of Dentistry in 1996 and completed a general practice residency at the VAMC San Diego. He then became the chief resident at the VAMC W. Los Angeles. \nDr. Schlesinger maintained a thriving restorative and implant practice in San Diego\, CA for 14 years and now provides implant care at his private practice in Albuquerque\, NM. In addition\, he founded The CD Schlesinger Group to help practitioners gain knowledge and experience with implants and serves as a key opinion leader for The Hahn Implant System. \nContinental breakfast and lunch provided \nDate\nFriday\, November 9\, 2018\nSaturday\, November 10\, 2018 \nTime\nFriday: 8:00am – 4:00pm (One hour lunch)\nSaturday: 8:00am – 4:00pm (One hour lunch) \nRate\n$2\,250 MDDS Member\n$2\,850 Non-MDDS Member \nCE Credits: 14 \nFormat: Lecture/Hands-on \nCancellation Deadline: November 2\, 2018\nRegistration Deadline: November 6\, 2018 \n2 Easy Ways to Register\nOnline – available 24 hours/day\nClick here to register online \nPhone In\nAvailable Monday – Friday 8:00am – 5:00pm at (303) 488-9700 \nCancellation Policy\nCancellations will be accepted and are entitled to a refund provided they are received at MDDS by the cancellation deadline. Refunds will not be given for cancellations after the cancellation deadline. \nMWDI Parking Information\nFor your convenience\, we have free parking in two retail garages within the Beauvallon building (east-facing side). Both garages are accessed from Lincoln Street between 9th and 10th Avenues. Parking in these garages is available on a first-come\, first-served basis. **If you are attending a large course/event at the MWDI\, we recommend arriving early in case the garages fill and alternative parking must be secured. Be aware – the garages come up quickly after you cross 9th Avenue and both have left lane entrances. All numbered spaces within both retail parking garages (without “Reserved” signs) are available on a first-come\, first-served basis. Do not park in any spaces with a red sign that says “Matrix” or “KCNC.” Do not park in the residential parking. Residential garages are at the back of the retail garages. The north and south garages are not connected. Both have open parking available. See link for more information.
URL:https://mddsdentist.com/event/2018-implant-grafting/2018-11-09/
LOCATION:Mountain West Dental Institute
CATEGORIES:employee,general,mdds,volunteer
END:VEVENT
BEGIN:VEVENT
DTSTART;TZID=America/Denver:20181110T080000
DTEND;TZID=America/Denver:20181110T160000
DTSTAMP:20260419T225946
CREATED:20180620T005334Z
LAST-MODIFIED:20220921T030746Z
UID:10056630-1541836800-1541865600@mddsdentist.com
SUMMARY:MDDS Presents: HANDS-ON Advanced Implant Placement Grafting: A Two-Day Workshop Utilizing Cadaver Specimens
DESCRIPTION:HANDS-ON Advanced Implant Placement Grafting: A Two-Day Workshop Utilizing Cadaver Specimens\nPresented by Dr. Charles Schlesinger \nThis intensive two-day workshop is ideal for clinicians ready to delve deeper into implant dentistry and improve their understanding of and ability to utilize more advanced techniques in guided bone and guided tissue regeneration. Each participant receives instruction through in-depth lectures and hands-on surgical experiences utilizing anatomical models\, as well as medical cadavers. \nPre-requisite: It is suggested that participants have experience placing 10 or more implant cases. \nEducation Objectives \n\nAnatomy: Review of landmarks and hard and soft tissue considerations\nImmediate implant placement into a fresh extraction site*\nPatient selection and treatment planning\nBone graft and membrane materials: Which to use where and why*\nHarvesting of autogenous bone*\nSuturing and knot tying technique*\nAtraumatic extractions*\nIncision and flap designs that can make a difference*\nSinus elevations: Internal and lateral approach*\nImplant placement into sinus grafts: Immediate or delayed and why*\nGrafting to repair the ailing/failing implant*\nRidge augmentation to increase the ridge width*\nRidge split technique: Immediate or delayed implant placement and why*\nComplications and treatment options\nDrugs and prescriptions\nThe importance of consent forms\n\n*Hands-on Component \nDr. Charles Schlesinger is a dental implant educator and clinician who has been lecturing internationally for more than 10 years. He graduated with honors from The Ohio State College of Dentistry in 1996 and completed a general practice residency at the VAMC San Diego. He then became the chief resident at the VAMC W. Los Angeles. \nDr. Schlesinger maintained a thriving restorative and implant practice in San Diego\, CA for 14 years and now provides implant care at his private practice in Albuquerque\, NM. In addition\, he founded The CD Schlesinger Group to help practitioners gain knowledge and experience with implants and serves as a key opinion leader for The Hahn Implant System. \nContinental breakfast and lunch provided \nDate\nFriday\, November 9\, 2018\nSaturday\, November 10\, 2018 \nTime\nFriday: 8:00am – 4:00pm (One hour lunch)\nSaturday: 8:00am – 4:00pm (One hour lunch) \nRate\n$2\,250 MDDS Member\n$2\,850 Non-MDDS Member \nCE Credits: 14 \nFormat: Lecture/Hands-on \nCancellation Deadline: November 2\, 2018\nRegistration Deadline: November 6\, 2018 \n2 Easy Ways to Register\nOnline – available 24 hours/day\nClick here to register online \nPhone In\nAvailable Monday – Friday 8:00am – 5:00pm at (303) 488-9700 \nCancellation Policy\nCancellations will be accepted and are entitled to a refund provided they are received at MDDS by the cancellation deadline. Refunds will not be given for cancellations after the cancellation deadline. \nMWDI Parking Information\nFor your convenience\, we have free parking in two retail garages within the Beauvallon building (east-facing side). Both garages are accessed from Lincoln Street between 9th and 10th Avenues. Parking in these garages is available on a first-come\, first-served basis. **If you are attending a large course/event at the MWDI\, we recommend arriving early in case the garages fill and alternative parking must be secured. Be aware – the garages come up quickly after you cross 9th Avenue and both have left lane entrances. All numbered spaces within both retail parking garages (without “Reserved” signs) are available on a first-come\, first-served basis. Do not park in any spaces with a red sign that says “Matrix” or “KCNC.” Do not park in the residential parking. Residential garages are at the back of the retail garages. The north and south garages are not connected. Both have open parking available. See link for more information.
URL:https://mddsdentist.com/event/2018-implant-grafting/2018-11-10/
LOCATION:Mountain West Dental Institute
CATEGORIES:employee,general,mdds,volunteer
END:VEVENT
BEGIN:VEVENT
DTSTART;TZID=America/Denver:20181112T010000
DTEND;TZID=America/Denver:20181112T100000
DTSTAMP:20260419T225946
CREATED:20180315T013157Z
LAST-MODIFIED:20181130T164449Z
UID:10056162-1541984400-1542016800@mddsdentist.com
SUMMARY:KIND
DESCRIPTION:
URL:https://mddsdentist.com/event/kind-8/2018-11-12/
CATEGORIES:employee,general
END:VEVENT
BEGIN:VEVENT
DTSTART;TZID=America/Denver:20181115T160000
DTEND;TZID=America/Denver:20181115T190000
DTSTAMP:20260419T225946
CREATED:20181030T145021Z
LAST-MODIFIED:20181102T141357Z
UID:10057109-1542297600-1542308400@mddsdentist.com
SUMMARY:MWDI Rental: Smile Brands
DESCRIPTION:
URL:https://mddsdentist.com/event/mwdi-rental-smile-brands-tentative-2/2018-11-15/
CATEGORIES:employee,general
END:VEVENT
BEGIN:VEVENT
DTSTART;TZID=America/Denver:20181116T020000
DTEND;TZID=America/Denver:20181116T060000
DTSTAMP:20260419T225946
CREATED:20180620T025936Z
LAST-MODIFIED:20181115T170755Z
UID:10056636-1542333600-1542348000@mddsdentist.com
SUMMARY:MDDS Presents: Straightforward Ultrasonic Debridement /HANDS-ON A Simplified Approach to Ultrasonic Instrumentation
DESCRIPTION:Straightforward Ultrasonic Debridement /HANDS-ON A Simplified Approach to Ultrasonic Instrumentation\nPresented by Ms. Cynthia Fong\, RDH\, MS \nStraightforward Ultrasonic Debridement\nThis course provides the fundamentals of ultrasonics that will enable clinicians to immediately incorporate ultrasonics in clinical practice for the purposes of complete periodontal debridement. It will begin with a discussion of the changes that have occurred in the treatment of periodontal disease and its impact on the use of power scalers and end with recommendations for appointment sequencing. Emphasis will be placed on differentiating between technologies and providing clinical recommendations\, including patient medical/dental considerations; equipment set up; and insert sterilization/replacement guidelines. Detailed instructions will be presented on the rationale for the use of a variety of inserts; instrumentation techniques and sequencing. \nHANDS-ON: A Simplified Approach to Ultrasonic Instrumentation\nThis hands-on workshop will begin with a discussion of the changes in the treatment of periodontal disease and its impact on the use of ultrasonics. Emphasis will be placed on detailing the fundamentals of ultrasonics (including differentiation between scaling equipment) with a focus on ultrasonic instrumentation for the purpose of gross ultrasonic debridement\, definite debridement and de-plaquing. Patient cases will be utilized to prescribe instrument selection\, sequencing and to assist in selecting the appropriate technology that will meet the individual needs of the patient. At the completion of this workshop\, the participant will gain the confidence and skills necessary to immediately incorporate the use of power scalers into clinical practice. \nPLEASE NOTE: Participants must complete the Straightforward Ultrasonic Debridement lecture prior to attending this hands-on workshop. \nMs. Cynthia Fong is a dental hygienist and a national and international speaker who presents continuing education courses and academic lectures on topics related to disease prevention and therapeutic oral care.  She is a graduate of Union College and Columbia University.  Previously she was a faculty member at the University of Medicine and Dentistry – New Jersey Dental School.  Ms. Fong has been a member of and has held several leadership positions with the American Dental Hygienists’ Association and the American Dental Education Association of Dental Schools.  Previously she served as a committee member of the American Dental Association National Board of Test Constructors in Dental Hygiene and as a Board of Director for the Commission on Dental Competency Assessment (formerly North East Regional Board of Dental Examiners). Ms. Fong has been recognized for her efforts and contributions to the profession as a recipient of national\, state and local awards including the Warner-Lambert/ADHA Excellence in Dental Hygiene. \nEquipment provided by:       \nContinental breakfast provided. Lunch provided for attendees taking both the lecture and hands-on courses. \nDate\nFriday\, November 16\, 2018 \nTime\nLecture: 9:00am – 1:00pm\nHands-on: 2:00pm – 4:00pm \nRate\n$99 MDDS Member (Lecture only)\n$99 MDDS Member Staff (Lecture only)\n$150 Non-MDDS Member (Lecture only)\n$150 Non-MDDS Member Staff (Lecture only) \n$225 MDDS Member (Lecture & Hands-on)\n$225 MDDS Member Staff (Lecture & Hands-on)\n$275 Non-MDDS Member (Lecture & Hands-on)\n$275 Non-MDDS Member Staff (Lecture & Hands-on) \nCE Credits: 4 Lecture Only\n6 Lecture and Hands-on \nFormat: Lecture/Hands-on \nCancellation Deadline: November 9\, 2018\nRegistration Deadline: November 13\, 2018 \n2 Easy Ways to Register\nOnline – available 24 hours/day\nClick here for online registration \nPhone In\nAvailable Monday – Friday 8:00am – 5:00pm at (303) 488-9700 \nCancellation Policy\nCancellations will be accepted and are entitled to a refund provided they are received at MDDS by the cancellation deadline. Refunds will not be given for cancellations after the cancellation deadline. \nMWDI Parking Information\nFor your convenience\, we have free parking in two retail garages within the Beauvallon building (east-facing side). Both garages are accessed from Lincoln Street between 9th and 10th Avenues. Parking in these garages is available on a first-come\, first-served basis. **If you are attending a large course/event at the MWDI\, we recommend arriving early in case the garages fill and alternative parking must be secured. Be aware – the garages come up quickly after you cross 9th Avenue and both have left lane entrances. All numbered spaces within both retail parking garages (without “Reserved” signs) are available on a first-come\, first-served basis. Do not park in any spaces with a red sign that says “Matrix” or “KCNC.” Do not park in the residential parking. Residential garages are at the back of the retail garages. The north and south garages are not connected. Both have open parking available. See link for more information.
URL:https://mddsdentist.com/event/2018-ultrasonic-debridement/
LOCATION:Mountain West Dental Institute
CATEGORIES:employee,general,mdds,volunteer
END:VEVENT
BEGIN:VEVENT
DTSTART;TZID=America/Denver:20181119T010000
DTEND;TZID=America/Denver:20181119T100000
DTSTAMP:20260419T225946
CREATED:20180315T013157Z
LAST-MODIFIED:20181130T164449Z
UID:10056163-1542589200-1542621600@mddsdentist.com
SUMMARY:KIND
DESCRIPTION:
URL:https://mddsdentist.com/event/kind-8/2018-11-19/
CATEGORIES:employee,general
END:VEVENT
BEGIN:VEVENT
DTSTART;VALUE=DATE:20181126
DTEND;VALUE=DATE:20181127
DTSTAMP:20260419T225946
CREATED:20180602T015910Z
LAST-MODIFIED:20220921T042851Z
UID:10056512-1543190400-1543276799@mddsdentist.com
SUMMARY:No Vacations
DESCRIPTION:
URL:https://mddsdentist.com/event/no-vacations/2018-11-26/
CATEGORIES:employee
END:VEVENT
BEGIN:VEVENT
DTSTART;TZID=America/Denver:20181126T010000
DTEND;TZID=America/Denver:20181126T100000
DTSTAMP:20260419T225946
CREATED:20180315T013157Z
LAST-MODIFIED:20181130T164449Z
UID:10056164-1543194000-1543226400@mddsdentist.com
SUMMARY:KIND
DESCRIPTION:
URL:https://mddsdentist.com/event/kind-8/2018-11-26/
CATEGORIES:employee,general
END:VEVENT
BEGIN:VEVENT
DTSTART;VALUE=DATE:20181127
DTEND;VALUE=DATE:20181128
DTSTAMP:20260419T225946
CREATED:20180602T015910Z
LAST-MODIFIED:20220921T042851Z
UID:10056513-1543276800-1543363199@mddsdentist.com
SUMMARY:No Vacations
DESCRIPTION:
URL:https://mddsdentist.com/event/no-vacations/2018-11-27/
CATEGORIES:employee
END:VEVENT
BEGIN:VEVENT
DTSTART;TZID=America/Denver:20181127T090000
DTEND;TZID=America/Denver:20181127T170000
DTSTAMP:20260419T225946
CREATED:20181030T145021Z
LAST-MODIFIED:20181102T141357Z
UID:10057110-1543309200-1543338000@mddsdentist.com
SUMMARY:MWDI Rental: Smile Brands
DESCRIPTION:
URL:https://mddsdentist.com/event/mwdi-rental-smile-brands-tentative-2/2018-11-27/
CATEGORIES:employee,general
END:VEVENT
BEGIN:VEVENT
DTSTART;VALUE=DATE:20181128
DTEND;VALUE=DATE:20181129
DTSTAMP:20260419T225946
CREATED:20180602T015910Z
LAST-MODIFIED:20220921T042851Z
UID:10056514-1543363200-1543449599@mddsdentist.com
SUMMARY:No Vacations
DESCRIPTION:
URL:https://mddsdentist.com/event/no-vacations/2018-11-28/
CATEGORIES:employee
END:VEVENT
BEGIN:VEVENT
DTSTART;VALUE=DATE:20181129
DTEND;VALUE=DATE:20181130
DTSTAMP:20260419T225946
CREATED:20180602T015910Z
LAST-MODIFIED:20220921T042851Z
UID:10056515-1543449600-1543535999@mddsdentist.com
SUMMARY:No Vacations
DESCRIPTION:
URL:https://mddsdentist.com/event/no-vacations/2018-11-29/
CATEGORIES:employee
END:VEVENT
BEGIN:VEVENT
DTSTART;VALUE=DATE:20181130
DTEND;VALUE=DATE:20181201
DTSTAMP:20260419T225946
CREATED:20180602T015910Z
LAST-MODIFIED:20220921T042851Z
UID:10056516-1543536000-1543622399@mddsdentist.com
SUMMARY:No Vacations
DESCRIPTION:
URL:https://mddsdentist.com/event/no-vacations/2018-11-30/
CATEGORIES:employee
END:VEVENT
BEGIN:VEVENT
DTSTART;TZID=America/Denver:20181130T080000
DTEND;TZID=America/Denver:20181130T170000
DTSTAMP:20260419T225946
CREATED:20181128T201231Z
LAST-MODIFIED:20181128T201231Z
UID:10057218-1543564800-1543597200@mddsdentist.com
SUMMARY:MWDI Rental: Sterisil
DESCRIPTION:
URL:https://mddsdentist.com/event/mwdi-rental-sterisil/
CATEGORIES:employee,general
END:VEVENT
BEGIN:VEVENT
DTSTART;VALUE=DATE:20181201
DTEND;VALUE=DATE:20181202
DTSTAMP:20260419T225946
CREATED:20180602T015910Z
LAST-MODIFIED:20220921T042851Z
UID:10056517-1543622400-1543708799@mddsdentist.com
SUMMARY:No Vacations
DESCRIPTION:
URL:https://mddsdentist.com/event/no-vacations/2018-12-01/
CATEGORIES:employee
END:VEVENT
BEGIN:VEVENT
DTSTART;TZID=America/Denver:20181201T010000
DTEND;TZID=America/Denver:20181201T090000
DTSTAMP:20260419T225946
CREATED:20180620T032442Z
LAST-MODIFIED:20180920T180944Z
UID:10056638-1543626000-1543654800@mddsdentist.com
SUMMARY:MDDS Presents: HANDS ON-Nitrous Oxide/Oxygen Administration Training
DESCRIPTION:HANDS ON-Nitrous Oxide/Oxygen Administration Training\nPresented by Dr. Jeffrey Young \nAnxiety and pain are two of the main obstacles to the acceptance of dental care. Appropriate administration and use of Nitrous Oxide/Oxygen can be a safe\, effective means to alleviate mild to moderate fear and anxiety. In addition\, it may diminish responses to pain and elevate pain threshold. \nThis course will provide an introduction to the pharmacology\, mechanism of action and effects of Nitrous Oxide/Oxygen. The goals of anxiolysis\, including clinical applications\, indications\, advantages/disadvantages and biohazards of administration will be presented. The monitoring and recognition of potential complications will be discussed. \nA review of Nitrous Oxide/Oxygen equipment and technique for safe administration will be presented followed by a demonstration of the administration and use of Nitrous Oxide/Oxygen inhalation equipment in a dental clinic setting. Participants will then practice administration and monitoring using actual inhalation equipment. \nThis is a one-day course with approximately five (5) hours of classroom instruction followed by two (2) hours of clinical demonstration and practice. At the end of this course\, participants will clearly understand the indications for use of Nitrous Oxide/Oxygen and be able to provide safe administration and monitoring. \nEducation Objectives \n\nDiscuss and understand the basic pharmacology and effects of Nitrous Oxide/Oxygen\nReview the anesthesia continuum and the Colorado State Board of Dentistry regulations regarding the administration and monitoring of Nitrous Oxide/Oxygen in the dental office\nKnow the goals of anxiolysis including advantages and disadvantages of inhalation administration\nDiscuss indications and contraindications for safe administration of Nitrous Oxide/Oxygen\nUnderstand how to monitor patients and recognize potential complications of Nitrous Oxide/Oxygen\nReview the inhalation equipment used for administration of Nitrous Oxide/Oxygen in dental offices\nBecome proficient in administration and monitoring of Nitrous Oxide/Oxygen by practicing with inhalation equipment in a clinical setting\n\nDr. Jeffrey Young earned his DDS from the University of Iowa and is a retired Army Colonel. He is a former Associate Professor at the University of Colorado School of Dental Medicine and served as Director of the Sedation Program at Children’s Hospital Colorado\, Pediatric Dental Residency Program. He currently owns a private pediatric dental practice in Brush\, CO. \nCourse supplies provided by:         \nContinental breakfast and lunch provided \nDate\nSaturday\, December 1\, 2018 \nTime\n8:00am – 4:00pm (one hour lunch) \nRate\n$410 MDDS Member\n$410 MDDS Member Staff\n$510 Non-MDDS Member\n$510 Non-MDDS Member Staff \nCE Credits: 7 (4 additional patient hours completed outside of class) \nFormat: Lecture/Hands-on \nCancellation Deadline: November 23\, 2018\nRegistration Deadline: November 28\, 2018 \n2 Easy Ways to Register\nOnline – available 24 hours/day\nClick here for online registration \nPhone In\nAvailable Monday – Friday 8:00am – 5:00pm at (303) 488-9700 \nCancellation Policy\nCancellations will be accepted and are entitled to a refund provided they are received at MDDS by the cancellation deadline. Refunds will not be given for cancellations after the cancellation deadline. \nMWDI Parking Information\nFor your convenience\, we have free parking in two retail garages within the Beauvallon building (east-facing side). Both garages are accessed from Lincoln Street between 9th and 10th Avenues. Parking in these garages is available on a first-come\, first-served basis. **If you are attending a large course/event at the MWDI\, we recommend arriving early in case the garages fill and alternative parking must be secured. Be aware – the garages come up quickly after you cross 9th Avenue and both have left lane entrances. All numbered spaces within both retail parking garages (without “Reserved” signs) are available on a first-come\, first-served basis. Do not park in any spaces with a red sign that says “Matrix” or “KCNC.” Do not park in the residential parking. Residential garages are at the back of the retail garages. The north and south garages are not connected. Both have open parking available. See link for more information.
URL:https://mddsdentist.com/event/2018-nitrous-oxide-training/
LOCATION:Mountain West Dental Institute
CATEGORIES:employee,general,mdds,volunteer
END:VEVENT
BEGIN:VEVENT
DTSTART;TZID=America/Denver:20181201T080000
DTEND;TZID=America/Denver:20181201T180000
DTSTAMP:20260419T225946
CREATED:20181012T173045Z
LAST-MODIFIED:20181114T222706Z
UID:10057043-1543651200-1543687200@mddsdentist.com
SUMMARY:MWDI Presents: Expotential Investments
DESCRIPTION:
URL:https://mddsdentist.com/event/mwdi-presents-jerilin-tenative/
CATEGORIES:employee,general
END:VEVENT
BEGIN:VEVENT
DTSTART;VALUE=DATE:20181202
DTEND;VALUE=DATE:20181203
DTSTAMP:20260419T225946
CREATED:20180602T015910Z
LAST-MODIFIED:20220921T042851Z
UID:10056518-1543708800-1543795199@mddsdentist.com
SUMMARY:No Vacations
DESCRIPTION:
URL:https://mddsdentist.com/event/no-vacations/2018-12-02/
CATEGORIES:employee
END:VEVENT
BEGIN:VEVENT
DTSTART;VALUE=DATE:20181203
DTEND;VALUE=DATE:20181204
DTSTAMP:20260419T225946
CREATED:20181203T185449Z
LAST-MODIFIED:20181203T185449Z
UID:10057234-1543795200-1543881599@mddsdentist.com
SUMMARY:No Vacations
DESCRIPTION:
URL:https://mddsdentist.com/event/no-vacations-3/
CATEGORIES:employee
END:VEVENT
BEGIN:VEVENT
DTSTART;VALUE=DATE:20181203
DTEND;VALUE=DATE:20181204
DTSTAMP:20260419T225946
CREATED:20180602T015910Z
LAST-MODIFIED:20220921T042851Z
UID:10056519-1543795200-1543881599@mddsdentist.com
SUMMARY:No Vacations
DESCRIPTION:
URL:https://mddsdentist.com/event/no-vacations/2018-12-03/
CATEGORIES:employee
END:VEVENT
BEGIN:VEVENT
DTSTART;TZID=America/Denver:20181203T010000
DTEND;TZID=America/Denver:20181203T100000
DTSTAMP:20260419T225946
CREATED:20180315T013157Z
LAST-MODIFIED:20181130T164449Z
UID:10056165-1543798800-1543831200@mddsdentist.com
SUMMARY:KIND
DESCRIPTION:
URL:https://mddsdentist.com/event/kind-8/2018-12-03/
CATEGORIES:employee,general
END:VEVENT
BEGIN:VEVENT
DTSTART;TZID=America/Denver:20181203T120000
DTEND;TZID=America/Denver:20181203T130000
DTSTAMP:20260419T225946
CREATED:20180501T031607Z
LAST-MODIFIED:20181203T181910Z
UID:10056372-1543838400-1543842000@mddsdentist.com
SUMMARY:Dr. Michael Melker (tenative)
DESCRIPTION:
URL:https://mddsdentist.com/event/dr-michael-melker-tenative/
CATEGORIES:general
END:VEVENT
BEGIN:VEVENT
DTSTART;VALUE=DATE:20181204
DTEND;VALUE=DATE:20181205
DTSTAMP:20260419T225946
CREATED:20180602T015910Z
LAST-MODIFIED:20220921T042851Z
UID:10056520-1543881600-1543967999@mddsdentist.com
SUMMARY:No Vacations
DESCRIPTION:
URL:https://mddsdentist.com/event/no-vacations/2018-12-04/
CATEGORIES:employee
END:VEVENT
BEGIN:VEVENT
DTSTART;TZID=America/Denver:20181204T090000
DTEND;TZID=America/Denver:20181204T110000
DTSTAMP:20260419T225946
CREATED:20181204T031037Z
LAST-MODIFIED:20181204T031037Z
UID:10057237-1543914000-1543921200@mddsdentist.com
SUMMARY:dentist (jk)
DESCRIPTION:
URL:https://mddsdentist.com/event/dentist-jk-3/
CATEGORIES:employee
END:VEVENT
BEGIN:VEVENT
DTSTART;VALUE=DATE:20181205
DTEND;VALUE=DATE:20181206
DTSTAMP:20260419T225946
CREATED:20180602T015910Z
LAST-MODIFIED:20220921T042851Z
UID:10056521-1543968000-1544054399@mddsdentist.com
SUMMARY:No Vacations
DESCRIPTION:
URL:https://mddsdentist.com/event/no-vacations/2018-12-05/
CATEGORIES:employee
END:VEVENT
BEGIN:VEVENT
DTSTART;TZID=America/Denver:20181205T160000
DTEND;TZID=America/Denver:20181205T193000
DTSTAMP:20260419T225946
CREATED:20181107T204316Z
LAST-MODIFIED:20181109T195110Z
UID:10057172-1544025600-1544038200@mddsdentist.com
SUMMARY:MWDI Rental: Smile Brands
DESCRIPTION:
URL:https://mddsdentist.com/event/mwdi-rental-smile-brands-3/
CATEGORIES:employee,general
END:VEVENT
BEGIN:VEVENT
DTSTART;VALUE=DATE:20181206
DTEND;VALUE=DATE:20181207
DTSTAMP:20260419T225946
CREATED:20180602T015910Z
LAST-MODIFIED:20220921T042851Z
UID:10056522-1544054400-1544140799@mddsdentist.com
SUMMARY:No Vacations
DESCRIPTION:
URL:https://mddsdentist.com/event/no-vacations/2018-12-06/
CATEGORIES:employee
END:VEVENT
BEGIN:VEVENT
DTSTART;VALUE=DATE:20181207
DTEND;VALUE=DATE:20181208
DTSTAMP:20260419T225946
CREATED:20180602T015910Z
LAST-MODIFIED:20220921T042851Z
UID:10056523-1544140800-1544227199@mddsdentist.com
SUMMARY:No Vacations
DESCRIPTION:
URL:https://mddsdentist.com/event/no-vacations/2018-12-07/
CATEGORIES:employee
END:VEVENT
BEGIN:VEVENT
DTSTART;VALUE=DATE:20181208
DTEND;VALUE=DATE:20181209
DTSTAMP:20260419T225946
CREATED:20180602T015910Z
LAST-MODIFIED:20220921T042851Z
UID:10056524-1544227200-1544313599@mddsdentist.com
SUMMARY:No Vacations
DESCRIPTION:
URL:https://mddsdentist.com/event/no-vacations/2018-12-08/
CATEGORIES:employee
END:VEVENT
BEGIN:VEVENT
DTSTART;VALUE=DATE:20181209
DTEND;VALUE=DATE:20181210
DTSTAMP:20260419T225946
CREATED:20180602T015910Z
LAST-MODIFIED:20220921T042851Z
UID:10056525-1544313600-1544399999@mddsdentist.com
SUMMARY:No Vacations
DESCRIPTION:
URL:https://mddsdentist.com/event/no-vacations/2018-12-09/
CATEGORIES:employee
END:VEVENT
END:VCALENDAR