BEGIN:VCALENDAR
VERSION:2.0
PRODID:-//Metro Denver Dental Society - ECPv6.15.18//NONSGML v1.0//EN
CALSCALE:GREGORIAN
METHOD:PUBLISH
X-WR-CALNAME:Metro Denver Dental Society
X-ORIGINAL-URL:https://mddsdentist.com
X-WR-CALDESC:Events for Metro Denver Dental Society
REFRESH-INTERVAL;VALUE=DURATION:PT1H
X-Robots-Tag:noindex
X-PUBLISHED-TTL:PT1H
BEGIN:VTIMEZONE
TZID:America/Denver
BEGIN:DAYLIGHT
TZOFFSETFROM:-0700
TZOFFSETTO:-0600
TZNAME:MDT
DTSTART:20170312T090000
END:DAYLIGHT
BEGIN:STANDARD
TZOFFSETFROM:-0600
TZOFFSETTO:-0700
TZNAME:MST
DTSTART:20171105T080000
END:STANDARD
BEGIN:DAYLIGHT
TZOFFSETFROM:-0700
TZOFFSETTO:-0600
TZNAME:MDT
DTSTART:20180311T090000
END:DAYLIGHT
BEGIN:STANDARD
TZOFFSETFROM:-0600
TZOFFSETTO:-0700
TZNAME:MST
DTSTART:20181104T080000
END:STANDARD
BEGIN:DAYLIGHT
TZOFFSETFROM:-0700
TZOFFSETTO:-0600
TZNAME:MDT
DTSTART:20190310T090000
END:DAYLIGHT
BEGIN:STANDARD
TZOFFSETFROM:-0600
TZOFFSETTO:-0700
TZNAME:MST
DTSTART:20191103T080000
END:STANDARD
BEGIN:DAYLIGHT
TZOFFSETFROM:-0700
TZOFFSETTO:-0600
TZNAME:MDT
DTSTART:20200308T090000
END:DAYLIGHT
BEGIN:STANDARD
TZOFFSETFROM:-0600
TZOFFSETTO:-0700
TZNAME:MST
DTSTART:20201101T080000
END:STANDARD
END:VTIMEZONE
BEGIN:VEVENT
DTSTART;VALUE=DATE:20181210
DTEND;VALUE=DATE:20181211
DTSTAMP:20260420T015722
CREATED:20180602T015910Z
LAST-MODIFIED:20220921T042851Z
UID:10056526-1544400000-1544486399@mddsdentist.com
SUMMARY:No Vacations
DESCRIPTION:
URL:https://mddsdentist.com/event/no-vacations/2018-12-10/
LOCATION:CO
CATEGORIES:employee
END:VEVENT
BEGIN:VEVENT
DTSTART;VALUE=DATE:20181211
DTEND;VALUE=DATE:20181212
DTSTAMP:20260420T015722
CREATED:20180602T015910Z
LAST-MODIFIED:20220921T042851Z
UID:10056527-1544486400-1544572799@mddsdentist.com
SUMMARY:No Vacations
DESCRIPTION:
URL:https://mddsdentist.com/event/no-vacations/2018-12-11/
LOCATION:CO
CATEGORIES:employee
END:VEVENT
BEGIN:VEVENT
DTSTART;VALUE=DATE:20181212
DTEND;VALUE=DATE:20181213
DTSTAMP:20260420T015722
CREATED:20180602T015910Z
LAST-MODIFIED:20220921T042851Z
UID:10056528-1544572800-1544659199@mddsdentist.com
SUMMARY:No Vacations
DESCRIPTION:
URL:https://mddsdentist.com/event/no-vacations/2018-12-12/
LOCATION:CO
CATEGORIES:employee
END:VEVENT
BEGIN:VEVENT
DTSTART;VALUE=DATE:20181213
DTEND;VALUE=DATE:20181214
DTSTAMP:20260420T015722
CREATED:20180602T015910Z
LAST-MODIFIED:20220921T042851Z
UID:10056529-1544659200-1544745599@mddsdentist.com
SUMMARY:No Vacations
DESCRIPTION:
URL:https://mddsdentist.com/event/no-vacations/2018-12-13/
LOCATION:CO
CATEGORIES:employee
END:VEVENT
BEGIN:VEVENT
DTSTART;TZID=America/Denver:20181213T130000
DTEND;TZID=America/Denver:20181213T170000
DTSTAMP:20260420T015722
CREATED:20181129T210231Z
LAST-MODIFIED:20181129T210231Z
UID:10057224-1544706000-1544720400@mddsdentist.com
SUMMARY:MWDI Rental: US Bank
DESCRIPTION:
URL:https://mddsdentist.com/event/mwdi-rental-us-bank-3/
LOCATION:CO
CATEGORIES:employee,general
END:VEVENT
BEGIN:VEVENT
DTSTART;TZID=America/Denver:20181213T130000
DTEND;TZID=America/Denver:20181213T170000
DTSTAMP:20260420T015722
CREATED:20181119T231303Z
LAST-MODIFIED:20181129T205635Z
UID:10057202-1544706000-1544720400@mddsdentist.com
SUMMARY:MWDI Rental: US Bank
DESCRIPTION:
URL:https://mddsdentist.com/event/mwdi-rental-us-bank-tentative-2/2018-12-13/
LOCATION:CO
CATEGORIES:employee,general
END:VEVENT
BEGIN:VEVENT
DTSTART;VALUE=DATE:20181214
DTEND;VALUE=DATE:20181215
DTSTAMP:20260420T015722
CREATED:20180602T015910Z
LAST-MODIFIED:20220921T042851Z
UID:10056530-1544745600-1544831999@mddsdentist.com
SUMMARY:No Vacations
DESCRIPTION:
URL:https://mddsdentist.com/event/no-vacations/2018-12-14/
LOCATION:CO
CATEGORIES:employee
END:VEVENT
BEGIN:VEVENT
DTSTART;VALUE=DATE:20181215
DTEND;VALUE=DATE:20181216
DTSTAMP:20260420T015722
CREATED:20180602T015910Z
LAST-MODIFIED:20220921T042851Z
UID:10056531-1544832000-1544918399@mddsdentist.com
SUMMARY:No Vacations
DESCRIPTION:
URL:https://mddsdentist.com/event/no-vacations/2018-12-15/
LOCATION:CO
CATEGORIES:employee
END:VEVENT
BEGIN:VEVENT
DTSTART;VALUE=DATE:20181216
DTEND;VALUE=DATE:20181217
DTSTAMP:20260420T015722
CREATED:20180602T015910Z
LAST-MODIFIED:20220921T042851Z
UID:10056532-1544918400-1545004799@mddsdentist.com
SUMMARY:No Vacations
DESCRIPTION:
URL:https://mddsdentist.com/event/no-vacations/2018-12-16/
LOCATION:CO
CATEGORIES:employee
END:VEVENT
BEGIN:VEVENT
DTSTART;VALUE=DATE:20181217
DTEND;VALUE=DATE:20181218
DTSTAMP:20260420T015722
CREATED:20180602T015910Z
LAST-MODIFIED:20220921T042851Z
UID:10056533-1545004800-1545091199@mddsdentist.com
SUMMARY:No Vacations
DESCRIPTION:
URL:https://mddsdentist.com/event/no-vacations/2018-12-17/
LOCATION:CO
CATEGORIES:employee
END:VEVENT
BEGIN:VEVENT
DTSTART;VALUE=DATE:20181218
DTEND;VALUE=DATE:20181219
DTSTAMP:20260420T015722
CREATED:20180602T015910Z
LAST-MODIFIED:20220921T042851Z
UID:10056534-1545091200-1545177599@mddsdentist.com
SUMMARY:No Vacations
DESCRIPTION:
URL:https://mddsdentist.com/event/no-vacations/2018-12-18/
LOCATION:CO
CATEGORIES:employee
END:VEVENT
BEGIN:VEVENT
DTSTART;VALUE=DATE:20181219
DTEND;VALUE=DATE:20181220
DTSTAMP:20260420T015722
CREATED:20180602T015910Z
LAST-MODIFIED:20220921T042851Z
UID:10056535-1545177600-1545263999@mddsdentist.com
SUMMARY:No Vacations
DESCRIPTION:
URL:https://mddsdentist.com/event/no-vacations/2018-12-19/
LOCATION:CO
CATEGORIES:employee
END:VEVENT
BEGIN:VEVENT
DTSTART;TZID=America/Denver:20181219T170000
DTEND;TZID=America/Denver:20181219T210000
DTSTAMP:20260420T015722
CREATED:20181127T161629Z
LAST-MODIFIED:20181127T191123Z
UID:10057211-1545238800-1545253200@mddsdentist.com
SUMMARY:MWDI Rental: Vivos
DESCRIPTION:
URL:https://mddsdentist.com/event/mwdi-rental-vivos-tentative/2018-12-19/
LOCATION:CO
CATEGORIES:employee,general
END:VEVENT
BEGIN:VEVENT
DTSTART;VALUE=DATE:20181220
DTEND;VALUE=DATE:20181221
DTSTAMP:20260420T015722
CREATED:20180602T015910Z
LAST-MODIFIED:20220921T042851Z
UID:10056536-1545264000-1545350399@mddsdentist.com
SUMMARY:No Vacations
DESCRIPTION:
URL:https://mddsdentist.com/event/no-vacations/2018-12-20/
LOCATION:CO
CATEGORIES:employee
END:VEVENT
BEGIN:VEVENT
DTSTART;TZID=America/Denver:20181220T083000
DTEND;TZID=America/Denver:20181220T153000
DTSTAMP:20260420T015722
CREATED:20181127T161629Z
LAST-MODIFIED:20181127T191123Z
UID:10057212-1545294600-1545319800@mddsdentist.com
SUMMARY:MWDI Rental: Vivos
DESCRIPTION:
URL:https://mddsdentist.com/event/mwdi-rental-vivos-tentative/2018-12-20/
LOCATION:CO
CATEGORIES:employee,general
END:VEVENT
BEGIN:VEVENT
DTSTART;VALUE=DATE:20181221
DTEND;VALUE=DATE:20181222
DTSTAMP:20260420T015722
CREATED:20180602T015910Z
LAST-MODIFIED:20220921T042851Z
UID:10056537-1545350400-1545436799@mddsdentist.com
SUMMARY:No Vacations
DESCRIPTION:
URL:https://mddsdentist.com/event/no-vacations/2018-12-21/
LOCATION:CO
CATEGORIES:employee
END:VEVENT
BEGIN:VEVENT
DTSTART;VALUE=DATE:20181224
DTEND;VALUE=DATE:20181226
DTSTAMP:20260420T015722
CREATED:20180314T012037Z
LAST-MODIFIED:20181116T211545Z
UID:10054899-1545670800-1545757199@mddsdentist.com
SUMMARY:Christmas
DESCRIPTION:
URL:https://mddsdentist.com/event/christmas/
LOCATION:CO
CATEGORIES:employee,volunteer
END:VEVENT
BEGIN:VEVENT
DTSTART;VALUE=DATE:20181231
DTEND;VALUE=DATE:20190102
DTSTAMP:20260420T015722
CREATED:20180314T012616Z
LAST-MODIFIED:20180314T012616Z
UID:10054905-1546275600-1546361999@mddsdentist.com
SUMMARY:New Year's Day
DESCRIPTION:
URL:https://mddsdentist.com/event/new-years-day/
LOCATION:CO
CATEGORIES:employee,general,volunteer
END:VEVENT
BEGIN:VEVENT
DTSTART;TZID=America/Denver:20190107T100000
DTEND;TZID=America/Denver:20190107T190000
DTSTAMP:20260420T015722
CREATED:20181130T164516Z
LAST-MODIFIED:20181130T164516Z
UID:10057227-1546855200-1546887600@mddsdentist.com
SUMMARY:KIND
DESCRIPTION:
URL:https://mddsdentist.com/event/kind-2/
LOCATION:CO
CATEGORIES:employee,general
END:VEVENT
BEGIN:VEVENT
DTSTART;TZID=America/Denver:20190110T080000
DTEND;TZID=America/Denver:20190110T170000
DTSTAMP:20260420T015722
CREATED:20180920T150131Z
LAST-MODIFIED:20181012T190640Z
UID:10056968-1547107200-1547139600@mddsdentist.com
SUMMARY:MWDI Rental: OBI Foundation presents: Function & Morphology
DESCRIPTION:
URL:https://mddsdentist.com/event/mwdi-rental-obi-foundation-presents-function-morphology/2019-01-10/
LOCATION:CO
CATEGORIES:employee,general
END:VEVENT
BEGIN:VEVENT
DTSTART;TZID=America/Denver:20190111T080000
DTEND;TZID=America/Denver:20190111T170000
DTSTAMP:20260420T015722
CREATED:20180920T150131Z
LAST-MODIFIED:20181012T190640Z
UID:10056969-1547193600-1547226000@mddsdentist.com
SUMMARY:MWDI Rental: OBI Foundation presents: Function & Morphology
DESCRIPTION:
URL:https://mddsdentist.com/event/mwdi-rental-obi-foundation-presents-function-morphology/2019-01-11/
LOCATION:CO
CATEGORIES:employee,general
END:VEVENT
BEGIN:VEVENT
DTSTART;TZID=America/Denver:20190111T080000
DTEND;TZID=America/Denver:20190111T170000
DTSTAMP:20260420T015722
CREATED:20180724T223746Z
LAST-MODIFIED:20220921T034733Z
UID:10056771-1547193600-1547226000@mddsdentist.com
SUMMARY:MWDI Rental: The OBI Foundation presents Level 3\, session 3
DESCRIPTION:
URL:https://mddsdentist.com/event/mwdi-rental-the-obi-foundation-presents-level-3-session-3/2019-01-11/
LOCATION:CO
CATEGORIES:employee,general
END:VEVENT
BEGIN:VEVENT
DTSTART;TZID=America/Denver:20190111T080000
DTEND;TZID=America/Denver:20190111T170000
DTSTAMP:20260420T015722
CREATED:20180706T024750Z
LAST-MODIFIED:20220921T032154Z
UID:10056690-1547193600-1547226000@mddsdentist.com
SUMMARY:MWDI Rental:  OBI Foundation presents-Level 2\, session 2
DESCRIPTION:
URL:https://mddsdentist.com/event/mwdi-rental-obi-foundation-presents-level-2-session-2/2019-01-11/
LOCATION:CO
CATEGORIES:employee,general
END:VEVENT
BEGIN:VEVENT
DTSTART;TZID=America/Denver:20190112T080000
DTEND;TZID=America/Denver:20190112T170000
DTSTAMP:20260420T015722
CREATED:20180920T150131Z
LAST-MODIFIED:20181012T190640Z
UID:10056970-1547280000-1547312400@mddsdentist.com
SUMMARY:MWDI Rental: OBI Foundation presents: Function & Morphology
DESCRIPTION:
URL:https://mddsdentist.com/event/mwdi-rental-obi-foundation-presents-function-morphology/2019-01-12/
LOCATION:CO
CATEGORIES:employee,general
END:VEVENT
BEGIN:VEVENT
DTSTART;TZID=America/Denver:20190112T080000
DTEND;TZID=America/Denver:20190112T170000
DTSTAMP:20260420T015722
CREATED:20180724T223746Z
LAST-MODIFIED:20220921T034733Z
UID:10056772-1547280000-1547312400@mddsdentist.com
SUMMARY:MWDI Rental: The OBI Foundation presents Level 3\, session 3
DESCRIPTION:
URL:https://mddsdentist.com/event/mwdi-rental-the-obi-foundation-presents-level-3-session-3/2019-01-12/
LOCATION:CO
CATEGORIES:employee,general
END:VEVENT
BEGIN:VEVENT
DTSTART;TZID=America/Denver:20190112T080000
DTEND;TZID=America/Denver:20190112T170000
DTSTAMP:20260420T015722
CREATED:20180706T024750Z
LAST-MODIFIED:20220921T032154Z
UID:10056691-1547280000-1547312400@mddsdentist.com
SUMMARY:MWDI Rental:  OBI Foundation presents-Level 2\, session 2
DESCRIPTION:
URL:https://mddsdentist.com/event/mwdi-rental-obi-foundation-presents-level-2-session-2/2019-01-12/
LOCATION:CO
CATEGORIES:employee,general
END:VEVENT
BEGIN:VEVENT
DTSTART;TZID=America/Denver:20190115T080000
DTEND;TZID=America/Denver:20190115T180000
DTSTAMP:20260420T015722
CREATED:20181219T165148Z
LAST-MODIFIED:20181219T165148Z
UID:10057273-1547539200-1547575200@mddsdentist.com
SUMMARY:MWDI Rental: Peak Dental
DESCRIPTION:
URL:https://mddsdentist.com/event/mwdi-rental-peak-dental/
LOCATION:CO
CATEGORIES:employee,general
END:VEVENT
BEGIN:VEVENT
DTSTART;TZID=America/Denver:20190115T140000
DTEND;TZID=America/Denver:20190115T170000
DTSTAMP:20260420T015722
CREATED:20181119T231303Z
LAST-MODIFIED:20181129T205635Z
UID:10057203-1547560800-1547571600@mddsdentist.com
SUMMARY:MWDI Rental: US Bank
DESCRIPTION:
URL:https://mddsdentist.com/event/mwdi-rental-us-bank-tentative-2/2019-01-15/
LOCATION:CO
CATEGORIES:employee,general
END:VEVENT
BEGIN:VEVENT
DTSTART;VALUE=DATE:20190117
DTEND;VALUE=DATE:20190118
DTSTAMP:20260420T015722
CREATED:20180314T013124Z
LAST-MODIFIED:20220921T043824Z
UID:10054909-1547683200-1547769599@mddsdentist.com
SUMMARY:Rocky Mountain Dental Convention
DESCRIPTION:
URL:https://mddsdentist.com/event/rocky-mountain-dental-convention/2019-01-17/
LOCATION:Colorado Convention Center\, 700 14th St\, Denver\, 80202\, United States
CATEGORIES:employee,general,mdds,volunteer
GEO:39.742615;-104.9965725
X-APPLE-STRUCTURED-LOCATION;VALUE=URI;X-ADDRESS=Colorado Convention Center 700 14th St Denver 80202 United States;X-APPLE-RADIUS=500;X-TITLE=700 14th St:geo:-104.9965725,39.742615
END:VEVENT
BEGIN:VEVENT
DTSTART;VALUE=DATE:20190118
DTEND;VALUE=DATE:20190119
DTSTAMP:20260420T015722
CREATED:20180314T013124Z
LAST-MODIFIED:20220921T043824Z
UID:10054910-1547769600-1547855999@mddsdentist.com
SUMMARY:Rocky Mountain Dental Convention
DESCRIPTION:
URL:https://mddsdentist.com/event/rocky-mountain-dental-convention/2019-01-18/
LOCATION:Colorado Convention Center\, 700 14th St\, Denver\, 80202\, United States
CATEGORIES:employee,general,mdds,volunteer
GEO:39.742615;-104.9965725
X-APPLE-STRUCTURED-LOCATION;VALUE=URI;X-ADDRESS=Colorado Convention Center 700 14th St Denver 80202 United States;X-APPLE-RADIUS=500;X-TITLE=700 14th St:geo:-104.9965725,39.742615
END:VEVENT
END:VCALENDAR