BEGIN:VCALENDAR
VERSION:2.0
PRODID:-//Metro Denver Dental Society - ECPv6.15.18//NONSGML v1.0//EN
CALSCALE:GREGORIAN
METHOD:PUBLISH
X-WR-CALNAME:Metro Denver Dental Society
X-ORIGINAL-URL:https://mddsdentist.com
X-WR-CALDESC:Events for Metro Denver Dental Society
REFRESH-INTERVAL;VALUE=DURATION:PT1H
X-Robots-Tag:noindex
X-PUBLISHED-TTL:PT1H
BEGIN:VTIMEZONE
TZID:America/Denver
BEGIN:DAYLIGHT
TZOFFSETFROM:-0700
TZOFFSETTO:-0600
TZNAME:MDT
DTSTART:20180311T090000
END:DAYLIGHT
BEGIN:STANDARD
TZOFFSETFROM:-0600
TZOFFSETTO:-0700
TZNAME:MST
DTSTART:20181104T080000
END:STANDARD
BEGIN:DAYLIGHT
TZOFFSETFROM:-0700
TZOFFSETTO:-0600
TZNAME:MDT
DTSTART:20190310T090000
END:DAYLIGHT
BEGIN:STANDARD
TZOFFSETFROM:-0600
TZOFFSETTO:-0700
TZNAME:MST
DTSTART:20191103T080000
END:STANDARD
BEGIN:DAYLIGHT
TZOFFSETFROM:-0700
TZOFFSETTO:-0600
TZNAME:MDT
DTSTART:20200308T090000
END:DAYLIGHT
BEGIN:STANDARD
TZOFFSETFROM:-0600
TZOFFSETTO:-0700
TZNAME:MST
DTSTART:20201101T080000
END:STANDARD
END:VTIMEZONE
BEGIN:VEVENT
DTSTART;VALUE=DATE:20190510
DTEND;VALUE=DATE:20190511
DTSTAMP:20260423T000759
CREATED:20181018T190153Z
LAST-MODIFIED:20181018T200816Z
UID:10057062-1557446400-1557532799@mddsdentist.com
SUMMARY:MWDI Rental: The OBI Foundation\, Level 2
DESCRIPTION:
URL:https://mddsdentist.com/event/mwdi-rental-the-obi-foundation-level-2/2019-05-10/
CATEGORIES:employee,general
END:VEVENT
BEGIN:VEVENT
DTSTART;TZID=America/Denver:20190510T080000
DTEND;TZID=America/Denver:20190510T170000
DTSTAMP:20260423T000759
CREATED:20180920T150318Z
LAST-MODIFIED:20181012T190539Z
UID:10056975-1557475200-1557507600@mddsdentist.com
SUMMARY:MWDI Rental: OBI Foundation presents: Function & Morphology
DESCRIPTION:
URL:https://mddsdentist.com/event/mwdi-rental-obi-foundation-presents-function-morphology-tentative-2/2019-05-10/
CATEGORIES:employee,general
END:VEVENT
BEGIN:VEVENT
DTSTART;TZID=America/Denver:20190510T080000
DTEND;TZID=America/Denver:20190510T170000
DTSTAMP:20260423T000759
CREATED:20180724T223829Z
LAST-MODIFIED:20220921T035012Z
UID:10056773-1557475200-1557507600@mddsdentist.com
SUMMARY:MWDI Rental: The OBI Foundation presents Level 3\, session 5
DESCRIPTION:
URL:https://mddsdentist.com/event/mwdi-rental-the-obi-foundation-presents-level-3-session-5/2019-05-10/
CATEGORIES:employee,general
END:VEVENT
BEGIN:VEVENT
DTSTART;VALUE=DATE:20190511
DTEND;VALUE=DATE:20190512
DTSTAMP:20260423T000759
CREATED:20181018T190153Z
LAST-MODIFIED:20181018T200816Z
UID:10057063-1557532800-1557619199@mddsdentist.com
SUMMARY:MWDI Rental: The OBI Foundation\, Level 2
DESCRIPTION:
URL:https://mddsdentist.com/event/mwdi-rental-the-obi-foundation-level-2/2019-05-11/
CATEGORIES:employee,general
END:VEVENT
BEGIN:VEVENT
DTSTART;TZID=America/Denver:20190511T080000
DTEND;TZID=America/Denver:20190511T170000
DTSTAMP:20260423T000759
CREATED:20180920T150318Z
LAST-MODIFIED:20181012T190539Z
UID:10056976-1557561600-1557594000@mddsdentist.com
SUMMARY:MWDI Rental: OBI Foundation presents: Function & Morphology
DESCRIPTION:
URL:https://mddsdentist.com/event/mwdi-rental-obi-foundation-presents-function-morphology-tentative-2/2019-05-11/
CATEGORIES:employee,general
END:VEVENT
BEGIN:VEVENT
DTSTART;TZID=America/Denver:20190511T080000
DTEND;TZID=America/Denver:20190511T170000
DTSTAMP:20260423T000759
CREATED:20180724T223829Z
LAST-MODIFIED:20220921T035012Z
UID:10056774-1557561600-1557594000@mddsdentist.com
SUMMARY:MWDI Rental: The OBI Foundation presents Level 3\, session 5
DESCRIPTION:
URL:https://mddsdentist.com/event/mwdi-rental-the-obi-foundation-presents-level-3-session-5/2019-05-11/
CATEGORIES:employee,general
END:VEVENT
BEGIN:VEVENT
DTSTART;TZID=America/Denver:20190513T130000
DTEND;TZID=America/Denver:20190513T160000
DTSTAMP:20260423T000759
CREATED:20190409T171134Z
LAST-MODIFIED:20190424T184413Z
UID:10057677-1557752400-1557763200@mddsdentist.com
SUMMARY:MWDI Rental: Metro Dental Care
DESCRIPTION:
URL:https://mddsdentist.com/event/mwdi-rental-metro-dental-care-tentative-3/
CATEGORIES:employee,general
END:VEVENT
BEGIN:VEVENT
DTSTART;VALUE=DATE:20190516
DTEND;VALUE=DATE:20190517
DTSTAMP:20260423T000759
CREATED:20181012T174158Z
LAST-MODIFIED:20181012T174158Z
UID:10057044-1557964800-1558051199@mddsdentist.com
SUMMARY:MWDI Rental: The Dawson Academy-Treatment Planning
DESCRIPTION:
URL:https://mddsdentist.com/event/mwdi-rental-the-dawson-academy-treatment-planning/2019-05-16/
CATEGORIES:employee,general
END:VEVENT
BEGIN:VEVENT
DTSTART;TZID=America/Denver:20190516T180000
DTEND;TZID=America/Denver:20190516T210000
DTSTAMP:20260423T000759
CREATED:20190308T183445Z
LAST-MODIFIED:20190312T155633Z
UID:10057589-1558029600-1558040400@mddsdentist.com
SUMMARY:MWDI Rental: Wells Fargo
DESCRIPTION:
URL:https://mddsdentist.com/event/mwdi-rental-wells-fargo-tentative-2/
CATEGORIES:employee,general
END:VEVENT
BEGIN:VEVENT
DTSTART;VALUE=DATE:20190517
DTEND;VALUE=DATE:20190518
DTSTAMP:20260423T000759
CREATED:20181012T174158Z
LAST-MODIFIED:20181012T174158Z
UID:10057045-1558051200-1558137599@mddsdentist.com
SUMMARY:MWDI Rental: The Dawson Academy-Treatment Planning
DESCRIPTION:
URL:https://mddsdentist.com/event/mwdi-rental-the-dawson-academy-treatment-planning/2019-05-17/
CATEGORIES:employee,general
END:VEVENT
BEGIN:VEVENT
DTSTART;TZID=America/Denver:20190517T080000
DTEND;TZID=America/Denver:20190517T150000
DTSTAMP:20260423T000759
CREATED:20181115T154516Z
LAST-MODIFIED:20190516T185454Z
UID:10057190-1558080000-1558105200@mddsdentist.com
SUMMARY:MDDS Presents HANDS-ON Oral Surgery Techniques for Predictably Great Outcomes
DESCRIPTION:Presented by Dr. John Alonge \nTake advantage of this hard-to-find opportunity to improve your surgical technique through hands-on training using custom models. Dr. Alonge guides you through detailed hands-on exercises\, allowing you to become more proficient with: 1) surgical instrumentation\, 2) routine and surgical exodontia\, 3) third molar extractions and 4) socket preservation grafting. \nReturn to your office with new skills that will allow you to perform your surgical procedures with greater efficiency and predictability. \nObjectives\n– Utilize specialty anatomic forceps for efficient and less traumatic oral surgery.\n– Position instruments\, patients and yourself to become proficient with routine\, as well as more complex surgical procedures.\n– Perform alternative incision and flap designs to remove mandibular third molars.\n– Utilize surgical burs\, handpieces and elevators for rapid removal of teeth. \nWho Should Attend?\nDentists who want to enhance their clinical proficiency and the enjoyment of doing oral surgical procedures. \nDr. John Alonge earned his DDS from the University of Maryland\, along with his master’s degree in anatomy. He is a Diplomate of the American Board of Oral and Maxillofacial Surgery and the National Dental Board of Anesthesiology. He maintains a private practice in Erie\, PA and serves as a clinical instructor for the LECOM School of Dental Medicine Erie Outreach Clinic. In addition\, he is a member of the Examination Committee for the American Board of Oral and Maxillofacial Surgery. \nBreakfast and lunch provided. \nDate\nFriday\, May 17\, 2019 \nTime\n8:00am – 3:00pm (one-hour lunch) \nLocation \nMountain West Dental Institute\n925 Lincoln Street\, Unit B\nDenver\, CO 80203 \nRate\n$925 MDDS Member – SOLD OUT\n$1\,150 Non-MDDS Member – SOLD OUT \nCE Credits: 6 \nFormat: Hands-on \nRegistration Deadline: May 8\, 2019 \nCancellation Deadline: May 10\, 2019 \nCourse Materials provided by: A. Titan Instruments\, Hu-Friedy\, Sabra Dental Products and Zimmer Biomet Dental \n2 Easy Ways to Register\nOnline – available 24 hours/day\nClick here to register online \nPhone In\nAvailable Monday – Friday 8:00am – 5:00pm at (303) 488-9700 \nMWDI Parking Information\nFor your convenience\, we have free parking in two retail garages within the Beauvallon building (east-facing side). Both garages are accessed from Lincoln Street between 9th and 10th Avenues. Parking in these garages is available on a first-come\, first-served basis. ** If you are attending a large course/event at the MWDI\, we recommend arriving early in case the garages fill and alternative parking must be secured. Be aware – the garages come up quickly after you cross 9th Avenue and both have left lane entrances. All numbered spaces within both retail parking garages (without ‘Reserved’ signs) are available on a first-come\, first-served basis. Do not park in any spaces with a red sign that says “Matrix” or “KCNC.” Do not park in the residential parking. Residential garages are at the back of the retail garages. The north and south garages are not connected. Both have open parking available.
URL:https://mddsdentist.com/event/mdds-presents-hands-on-oral-surgery/
LOCATION:Mountain West Dental Institute
CATEGORIES:employee,general,mdds,volunteer
END:VEVENT
BEGIN:VEVENT
DTSTART;TZID=America/Denver:20190517T090000
DTEND;TZID=America/Denver:20190517T160000
DTSTAMP:20260423T000759
CREATED:20181227T201202Z
LAST-MODIFIED:20190718T174205Z
UID:10057294-1558083600-1558108800@mddsdentist.com
SUMMARY:MWDI Rental:Smile Brands
DESCRIPTION:
URL:https://mddsdentist.com/event/mwdi-rentalsmile-brands-tentative/2019-05-17/
CATEGORIES:employee,general
END:VEVENT
BEGIN:VEVENT
DTSTART;VALUE=DATE:20190518
DTEND;VALUE=DATE:20190519
DTSTAMP:20260423T000759
CREATED:20181012T174158Z
LAST-MODIFIED:20181012T174158Z
UID:10057046-1558137600-1558223999@mddsdentist.com
SUMMARY:MWDI Rental: The Dawson Academy-Treatment Planning
DESCRIPTION:
URL:https://mddsdentist.com/event/mwdi-rental-the-dawson-academy-treatment-planning/2019-05-18/
CATEGORIES:employee,general
END:VEVENT
BEGIN:VEVENT
DTSTART;TZID=America/Denver:20190531T080000
DTEND;TZID=America/Denver:20190531T170000
DTSTAMP:20260423T000759
CREATED:20190123T171222Z
LAST-MODIFIED:20190507T143621Z
UID:10057340-1559289600-1559322000@mddsdentist.com
SUMMARY:MDDS Presents: Dental Sleep Principles: Where the Rubber Meets the Road
DESCRIPTION:Dental Sleep Principles: Where the Rubber Meets the Road\nPresented by Drs. Chase Bennett & Terry Bennett\n \nTake your treatment of sleep disorders to the next level. Review the basics of dental sleep medicine and the TMJ complex. Work your way through a comprehensive exam\, oral appliance selection and various bite techniques used commonly in the dental sleep field. Gain an understanding of common problems faced during treatment and the proper guidelines to keep dentists “in their lane” when going into the medical realm. \nObjectives: \n\nReview and understand the basics of dental sleep medicine\, including the science of dental sleep medicine and understanding sleep studies/what to look for.\nUnderstand the flow of a comprehensive dental sleep exam and practice this in small groups with the guidance of the supervising doctors.\nUnderstand and be able to take multiple bite techniques. This will also be practiced in small groups with guidance.\nUnderstand pitfalls and problems with oral appliance therapy that you will encounter. Learn techniques to handle these issues.\nUnderstand the different designs of oral appliances and when to use each.\nUnderstand the guidelines of dental sleep medicine to keep your patients and your practice within the scope of dental sleep medicine.\n\n\nDr. Chase Bennett graduated from the University of Oklahoma School of Dentistry with special distinction. Under the direction of its distinguished program founder\, Dr. Noshir Mehta\, Dr. Bennett completed an externship at the renowned Craniofacial Pain Center at Tufts University School of Dentistry. He is the youngest dentist to have achieved Diplomate status in the fields of Craniofacial Pain and Sleep Disordered Breathing. Currently\, Dr. Bennett lectures nationally and is involved in various research projects on the topics of Craniofacial Pain and Sleep Disorders. He serves as Director of the Apnea & Breathing Clinic in San Diego\, CA. Dr. Bennett maintains a private practice in Arvada\, CO. \nDr. Terry Bennett graduated from Oklahoma State University in 1972 with a B.S. in Zoology. He then attended the University of Louisville School of Dentistry and graduated in 1977. Dr. Bennett started his private practice in Tulsa\, OK that same year. He soon developed an interest in treating patients with chronic head\, neck and facial pain disorders. Since 1990\, his practice has been exclusively devoted to the treatment of Temporomandibular-related disorders\, snoring\, sleep apnea\, and bruxism. \nContinental breakfast and lunch provided.  \nDate\nFriday – Saturday\, May 31 – June 1\, 2019 \nTime\nFriday and Saturday: 8:00am – 5:00pm (One hour lunch both days) \nRate\n$499 MDDS Member\n$499 MDDS Member Staff\n$625 Non-MDDS Member\n$625 Non-MDDS Member Staff \nCE Credits: 16 \nFormat: Lecture/Hands-on \nRegistration Deadline: May 8\, 2019 \nCancellation Deadline: May 24\, 2019 \n2 Easy Ways to Register\nOnline – available 24 hours/day\nClick here for online registration \nPhone In\nAvailable Monday – Friday 8:00am – 5:00pm at (303) 488-9700 \nCancellation Policy\nCancellations will be accepted and are entitled to a refund provided they are received at MDDS by the cancellation deadline. Refunds will not be given for cancellations after the cancellation deadline. \nMWDI Parking Information\nFor your convenience\, we have free parking in two retail garages within the Beauvallon building (east-facing side). Both garages are accessed from Lincoln Street between 9th and 10th Avenues. Parking in these garages is available on a first-come\, first-served basis. **If you are attending a large course/event at the MWDI\, we recommend arriving early in case the garages fill and alternative parking must be secured. Be aware – the garages come up quickly after you cross 9th Avenue and both have left lane entrances. All numbered spaces within both retail parking garages (without “Reserved” signs) are available on a first-come\, first-served basis. Do not park in any spaces with a red sign that says “Matrix” or “KCNC.” Do not park in the residential parking. Residential garages are at the back of the retail garages. The north and south garages are not connected. Both have open parking available. See link for more information.
URL:https://mddsdentist.com/event/mdds-presents-dental-sleep-principles-where-the-rubber-meets-the-road/2019-05-31/
CATEGORIES:employee,general,mdds,volunteer
END:VEVENT
BEGIN:VEVENT
DTSTART;TZID=America/Denver:20190601T080000
DTEND;TZID=America/Denver:20190601T170000
DTSTAMP:20260423T000759
CREATED:20190123T171222Z
LAST-MODIFIED:20190507T143621Z
UID:10057341-1559376000-1559408400@mddsdentist.com
SUMMARY:MDDS Presents: Dental Sleep Principles: Where the Rubber Meets the Road
DESCRIPTION:Dental Sleep Principles: Where the Rubber Meets the Road\nPresented by Drs. Chase Bennett & Terry Bennett\n \nTake your treatment of sleep disorders to the next level. Review the basics of dental sleep medicine and the TMJ complex. Work your way through a comprehensive exam\, oral appliance selection and various bite techniques used commonly in the dental sleep field. Gain an understanding of common problems faced during treatment and the proper guidelines to keep dentists “in their lane” when going into the medical realm. \nObjectives: \n\nReview and understand the basics of dental sleep medicine\, including the science of dental sleep medicine and understanding sleep studies/what to look for.\nUnderstand the flow of a comprehensive dental sleep exam and practice this in small groups with the guidance of the supervising doctors.\nUnderstand and be able to take multiple bite techniques. This will also be practiced in small groups with guidance.\nUnderstand pitfalls and problems with oral appliance therapy that you will encounter. Learn techniques to handle these issues.\nUnderstand the different designs of oral appliances and when to use each.\nUnderstand the guidelines of dental sleep medicine to keep your patients and your practice within the scope of dental sleep medicine.\n\n\nDr. Chase Bennett graduated from the University of Oklahoma School of Dentistry with special distinction. Under the direction of its distinguished program founder\, Dr. Noshir Mehta\, Dr. Bennett completed an externship at the renowned Craniofacial Pain Center at Tufts University School of Dentistry. He is the youngest dentist to have achieved Diplomate status in the fields of Craniofacial Pain and Sleep Disordered Breathing. Currently\, Dr. Bennett lectures nationally and is involved in various research projects on the topics of Craniofacial Pain and Sleep Disorders. He serves as Director of the Apnea & Breathing Clinic in San Diego\, CA. Dr. Bennett maintains a private practice in Arvada\, CO. \nDr. Terry Bennett graduated from Oklahoma State University in 1972 with a B.S. in Zoology. He then attended the University of Louisville School of Dentistry and graduated in 1977. Dr. Bennett started his private practice in Tulsa\, OK that same year. He soon developed an interest in treating patients with chronic head\, neck and facial pain disorders. Since 1990\, his practice has been exclusively devoted to the treatment of Temporomandibular-related disorders\, snoring\, sleep apnea\, and bruxism. \nContinental breakfast and lunch provided.  \nDate\nFriday – Saturday\, May 31 – June 1\, 2019 \nTime\nFriday and Saturday: 8:00am – 5:00pm (One hour lunch both days) \nRate\n$499 MDDS Member\n$499 MDDS Member Staff\n$625 Non-MDDS Member\n$625 Non-MDDS Member Staff \nCE Credits: 16 \nFormat: Lecture/Hands-on \nRegistration Deadline: May 8\, 2019 \nCancellation Deadline: May 24\, 2019 \n2 Easy Ways to Register\nOnline – available 24 hours/day\nClick here for online registration \nPhone In\nAvailable Monday – Friday 8:00am – 5:00pm at (303) 488-9700 \nCancellation Policy\nCancellations will be accepted and are entitled to a refund provided they are received at MDDS by the cancellation deadline. Refunds will not be given for cancellations after the cancellation deadline. \nMWDI Parking Information\nFor your convenience\, we have free parking in two retail garages within the Beauvallon building (east-facing side). Both garages are accessed from Lincoln Street between 9th and 10th Avenues. Parking in these garages is available on a first-come\, first-served basis. **If you are attending a large course/event at the MWDI\, we recommend arriving early in case the garages fill and alternative parking must be secured. Be aware – the garages come up quickly after you cross 9th Avenue and both have left lane entrances. All numbered spaces within both retail parking garages (without “Reserved” signs) are available on a first-come\, first-served basis. Do not park in any spaces with a red sign that says “Matrix” or “KCNC.” Do not park in the residential parking. Residential garages are at the back of the retail garages. The north and south garages are not connected. Both have open parking available. See link for more information.
URL:https://mddsdentist.com/event/mdds-presents-dental-sleep-principles-where-the-rubber-meets-the-road/2019-06-01/
CATEGORIES:employee,general,mdds,volunteer
END:VEVENT
BEGIN:VEVENT
DTSTART;TZID=America/Denver:20190601T170000
DTEND;TZID=America/Denver:20190601T210000
DTSTAMP:20260423T000759
CREATED:20190304T170913Z
LAST-MODIFIED:20190529T135032Z
UID:10057568-1559408400-1559422800@mddsdentist.com
SUMMARY:MDDS Summer Kickoff Event
DESCRIPTION:MDDS is kicking off summer with the Colorado Rapids! Bring your family and join us for a pregame gathering featuring great food\, lawn games and fun. Then we’ll cheer on the Rapids as they battle FC Cincinnati. \nDate: Saturday\, June 1\, 2019 \nTIME CHANGE\nPregame BBQ: 5:00pm\nGame Time: 6:30pm \nLocation:\nDick’s Sporting Goods Park\n6000 Victory Way\nCommerce City\, CO 80022 \nFee:\n$10 – adults and children 3+\nChildren 2 and under are free (must sit on adult’s lap) \nCancellation Deadline: May 24\, 2019 at 5:00pm\nRegistration Deadline: May 28\, 2019 at 12:00pm – Registration Closed \nCancellation Policy\nCancellations will be accepted and are entitled to a refund provided they are received at MDDS by the cancellation deadline. Refunds will not be given for cancellations after the cancellation deadline. \nThis event is sponsored by: \n    
URL:https://mddsdentist.com/event/mddssummerkickoff2019/
LOCATION:Dick’s Sporting Goods Park\, 6000 Victory Way\, Commerce City\, CO\, 80022\, United States
CATEGORIES:employee,general,mdds,volunteer
ORGANIZER;CN="Korinna Milam-MDDS":MAILTO:rmdc@mddsdentist.com
GEO:39.8056867;-104.8918117
X-APPLE-STRUCTURED-LOCATION;VALUE=URI;X-ADDRESS=Dick’s Sporting Goods Park 6000 Victory Way Commerce City CO 80022 United States;X-APPLE-RADIUS=500;X-TITLE=6000 Victory Way:geo:-104.8918117,39.8056867
END:VEVENT
BEGIN:VEVENT
DTSTART;TZID=America/Denver:20190607T090000
DTEND;TZID=America/Denver:20190607T130000
DTSTAMP:20260423T000759
CREATED:20190521T144619Z
LAST-MODIFIED:20190522T144033Z
UID:10057829-1559898000-1559912400@mddsdentist.com
SUMMARY:MWDI Rental:Peak Dental Services
DESCRIPTION:
URL:https://mddsdentist.com/event/mwdi-rentalpeak-dental-services-tentative/
CATEGORIES:employee,general
END:VEVENT
BEGIN:VEVENT
DTSTART;TZID=America/Denver:20190612T180000
DTEND;TZID=America/Denver:20190612T210000
DTSTAMP:20260423T000759
CREATED:20190319T203153Z
LAST-MODIFIED:20190404T214347Z
UID:10057617-1560362400-1560373200@mddsdentist.com
SUMMARY:MWDI Rental: Vivos
DESCRIPTION:
URL:https://mddsdentist.com/event/mwdi-rental-vivos-tentative-3/2019-06-12/
CATEGORIES:employee,general
END:VEVENT
BEGIN:VEVENT
DTSTART;TZID=America/Denver:20190613T080000
DTEND;TZID=America/Denver:20190613T170000
DTSTAMP:20260423T000759
CREATED:20190319T203153Z
LAST-MODIFIED:20190404T214347Z
UID:10057618-1560412800-1560445200@mddsdentist.com
SUMMARY:MWDI Rental: Vivos
DESCRIPTION:
URL:https://mddsdentist.com/event/mwdi-rental-vivos-tentative-3/2019-06-13/
CATEGORIES:employee,general
END:VEVENT
BEGIN:VEVENT
DTSTART;TZID=America/Denver:20190614T070000
DTEND;TZID=America/Denver:20190614T170000
DTSTAMP:20260423T000759
CREATED:20190424T212538Z
LAST-MODIFIED:20190614T152151Z
UID:10057765-1560495600-1560531600@mddsdentist.com
SUMMARY:Vivos (op:cs/cl:sf)
DESCRIPTION:
URL:https://mddsdentist.com/event/vivos-smile-brand-opjk-clsf/
CATEGORIES:employee
END:VEVENT
BEGIN:VEVENT
DTSTART;TZID=America/Denver:20190614T080000
DTEND;TZID=America/Denver:20190614T170000
DTSTAMP:20260423T000759
CREATED:20190319T203153Z
LAST-MODIFIED:20190404T214347Z
UID:10057619-1560499200-1560531600@mddsdentist.com
SUMMARY:MWDI Rental: Vivos
DESCRIPTION:
URL:https://mddsdentist.com/event/mwdi-rental-vivos-tentative-3/2019-06-14/
CATEGORIES:employee,general
END:VEVENT
BEGIN:VEVENT
DTSTART;TZID=America/Denver:20190615T080000
DTEND;TZID=America/Denver:20190615T170000
DTSTAMP:20260423T000759
CREATED:20190319T203153Z
LAST-MODIFIED:20190404T214347Z
UID:10057620-1560585600-1560618000@mddsdentist.com
SUMMARY:MWDI Rental: Vivos
DESCRIPTION:
URL:https://mddsdentist.com/event/mwdi-rental-vivos-tentative-3/2019-06-15/
CATEGORIES:employee,general
END:VEVENT
BEGIN:VEVENT
DTSTART;TZID=America/Denver:20190619T160000
DTEND;TZID=America/Denver:20190619T203000
DTSTAMP:20260423T000759
CREATED:20190520T201446Z
LAST-MODIFIED:20190521T151228Z
UID:10057828-1560960000-1560976200@mddsdentist.com
SUMMARY:MWDI Rental: Implant Direct presents:Implant Restorations
DESCRIPTION:
URL:https://mddsdentist.com/event/mwdi-rental-implant-direct-presentsimplant-restorations/
CATEGORIES:employee,general
END:VEVENT
BEGIN:VEVENT
DTSTART;TZID=America/Denver:20190621T090000
DTEND;TZID=America/Denver:20190621T160000
DTSTAMP:20260423T000759
CREATED:20181227T201202Z
LAST-MODIFIED:20190614T152822Z
UID:10057299-1561107600-1561132800@mddsdentist.com
SUMMARY:MWDI Rental:Smile Brands
DESCRIPTION:
URL:https://mddsdentist.com/event/mwdi-rentalsmile-brands-tentative-2019-06-14/
CATEGORIES:employee,general
END:VEVENT
BEGIN:VEVENT
DTSTART;TZID=America/Denver:20190627T180000
DTEND;TZID=America/Denver:20190627T210000
DTSTAMP:20260423T000759
CREATED:20190227T181323Z
LAST-MODIFIED:20190510T202520Z
UID:10057546-1561658400-1561669200@mddsdentist.com
SUMMARY:Wine\, Cheese & Cheese Event
DESCRIPTION:Join MDDS and the CDA New Dentist Committee for an evening of networking\, wine\, delicious hors d’oeuvres and FREE professional headshots. Enjoy spectacular views of downtown Denver from Catalyst in RiNo. \nSponsored by:
URL:https://mddsdentist.com/event/wine-cheese-cheese-event/
CATEGORIES:employee,general,mdds,volunteer
END:VEVENT
BEGIN:VEVENT
DTSTART;TZID=America/Denver:20190709T123000
DTEND;TZID=America/Denver:20190709T160000
DTSTAMP:20260423T000759
CREATED:20190709T184531Z
LAST-MODIFIED:20190709T184531Z
UID:10057975-1562675400-1562688000@mddsdentist.com
SUMMARY:MWDI Rental: Zen Academy
DESCRIPTION:
URL:https://mddsdentist.com/event/mwdi-rental-zen-academy/
CATEGORIES:employee,general
END:VEVENT
BEGIN:VEVENT
DTSTART;VALUE=DATE:20190711
DTEND;VALUE=DATE:20190714
DTSTAMP:20260423T000759
CREATED:20190402T155530Z
LAST-MODIFIED:20190417T193606Z
UID:10057667-1562803200-1563062399@mddsdentist.com
SUMMARY:MWDI Rental: The OBI Foundation-Morphology
DESCRIPTION:
URL:https://mddsdentist.com/event/mwdi-rental-the-obi-foundation-morphology-tentative/
CATEGORIES:employee,general
END:VEVENT
BEGIN:VEVENT
DTSTART;TZID=America/Denver:20190716T100000
DTEND;TZID=America/Denver:20190716T170000
DTSTAMP:20260423T000759
CREATED:20190710T151358Z
LAST-MODIFIED:20190710T151358Z
UID:10057981-1563271200-1563296400@mddsdentist.com
SUMMARY:Peak (op:jk/ae cl:km)
DESCRIPTION:
URL:https://mddsdentist.com/event/peak-opjk-ae-clkm/
CATEGORIES:employee
END:VEVENT
BEGIN:VEVENT
DTSTART;TZID=America/Denver:20190716T130000
DTEND;TZID=America/Denver:20190716T160000
DTSTAMP:20260423T000759
CREATED:20190610T172752Z
LAST-MODIFIED:20190610T172752Z
UID:10057861-1563282000-1563292800@mddsdentist.com
SUMMARY:MWDI Rental: Metro Dental Care
DESCRIPTION:
URL:https://mddsdentist.com/event/mwdi-rental-metro-dental-care-2/
CATEGORIES:employee,general
END:VEVENT
BEGIN:VEVENT
DTSTART;TZID=America/Denver:20190717T180000
DTEND;TZID=America/Denver:20190717T210000
DTSTAMP:20260423T000759
CREATED:20190619T185953Z
LAST-MODIFIED:20190627T165500Z
UID:10057911-1563386400-1563397200@mddsdentist.com
SUMMARY:Mindful Dentist
DESCRIPTION:
URL:https://mddsdentist.com/event/mindful-dentist-tentative/2019-07-17/
CATEGORIES:employee,volunteer
END:VEVENT
END:VCALENDAR