BEGIN:VCALENDAR
VERSION:2.0
PRODID:-//Metro Denver Dental Society - ECPv6.15.18//NONSGML v1.0//EN
CALSCALE:GREGORIAN
METHOD:PUBLISH
X-WR-CALNAME:Metro Denver Dental Society
X-ORIGINAL-URL:https://mddsdentist.com
X-WR-CALDESC:Events for Metro Denver Dental Society
REFRESH-INTERVAL;VALUE=DURATION:PT1H
X-Robots-Tag:noindex
X-PUBLISHED-TTL:PT1H
BEGIN:VTIMEZONE
TZID:America/Denver
BEGIN:DAYLIGHT
TZOFFSETFROM:-0700
TZOFFSETTO:-0600
TZNAME:MDT
DTSTART:20180311T090000
END:DAYLIGHT
BEGIN:STANDARD
TZOFFSETFROM:-0600
TZOFFSETTO:-0700
TZNAME:MST
DTSTART:20181104T080000
END:STANDARD
BEGIN:DAYLIGHT
TZOFFSETFROM:-0700
TZOFFSETTO:-0600
TZNAME:MDT
DTSTART:20190310T090000
END:DAYLIGHT
BEGIN:STANDARD
TZOFFSETFROM:-0600
TZOFFSETTO:-0700
TZNAME:MST
DTSTART:20191103T080000
END:STANDARD
BEGIN:DAYLIGHT
TZOFFSETFROM:-0700
TZOFFSETTO:-0600
TZNAME:MDT
DTSTART:20200308T090000
END:DAYLIGHT
BEGIN:STANDARD
TZOFFSETFROM:-0600
TZOFFSETTO:-0700
TZNAME:MST
DTSTART:20201101T080000
END:STANDARD
END:VTIMEZONE
BEGIN:VEVENT
DTSTART;TZID=America/Denver:20190720T090000
DTEND;TZID=America/Denver:20190720T120000
DTSTAMP:20260423T031016
CREATED:20190308T231036Z
LAST-MODIFIED:20190315T202300Z
UID:10057594-1563613200-1563624000@mddsdentist.com
SUMMARY:MDDS Shred Event 2019
DESCRIPTION:Destroy confidential documents with peace of mind and in compliance with State Board rules and regulations. Let MDDS issue your legal publication notice in The Denver Post for four (4) consecutive weeks (May 10\, 17\, 24 & 31) for only $85 per doctor name. You may also include your practice name for an additional $85. Individual ads can cost more than $400\, so take advantage of this great deal. Sign up by May 3\, 2019. \nThe 2019 Shred Event Drop-off Day is Saturday\, July 20 from 9:00am – 12:00pm at Rocky Mountain Orthodontics\, conveniently located just east of I-25 at 650 West Colfax Avenue\, Denver\, CO 80204. One “banker-sized” box (approx. 10″H x 12″W x 15″D) is just $7 to shred. Larger boxes are $12. Pay on-site by credit card\, cash or check (payable to MDDS). \nThis event benefits:  \nDates of Legal Publication Notice: May 10\, 17\, 24\, 31\, 2019\nRate for Legal Publication Notice: $85 per doctor/practice name\nRegistration Deadline-Legal Notice: Friday\, May 3\, 2019 at 5:00pm \nDate of Drop-Off Shred Event: Saturday\, July 20\, 2019\nTime of Drop-Off Shred Event: 9:00am – 12:00pm\nRate for Shredding: $7 per “banker-sized” box; $12 for larger box\nLocation of Drop-Off Shred Event:\nRocky Mountain Orthodontics\n650 West Colfax Avenue\nDenver\, CO 80204 \nDownload legal publication notice registration for here. \nTo access the Colorado Dental Board’s rules and regulations regarding Patient Records Retention\, please click here. The rules begin on page 22.
URL:https://mddsdentist.com/event/mdds-shred-event-2019/
CATEGORIES:employee,general,mdds,volunteer
ORGANIZER;CN="Korinna Milam-MDDS":MAILTO:rmdc@mddsdentist.com
END:VEVENT
BEGIN:VEVENT
DTSTART;TZID=America/Denver:20190802T073000
DTEND;TZID=America/Denver:20190802T170000
DTSTAMP:20260423T031016
CREATED:20190618T195025Z
LAST-MODIFIED:20190711T173046Z
UID:10057910-1564731000-1564765200@mddsdentist.com
SUMMARY:MWDI Rental:Peak Oral Surgery
DESCRIPTION:
URL:https://mddsdentist.com/event/mwdi-rentalpeak-oral-surgery-tentative-2/
CATEGORIES:employee,general
END:VEVENT
BEGIN:VEVENT
DTSTART;TZID=America/Denver:20190802T093000
DTEND;TZID=America/Denver:20190802T100000
DTSTAMP:20260423T031016
CREATED:20190801T163246Z
LAST-MODIFIED:20190801T163246Z
UID:10058036-1564738200-1564740000@mddsdentist.com
SUMMARY:Laser Graphic Meeting (cs\, km\, ct)
DESCRIPTION:
URL:https://mddsdentist.com/event/laser-graphic-meeting-cs-km-ct/
CATEGORIES:employee
END:VEVENT
BEGIN:VEVENT
DTSTART;TZID=America/Denver:20190805T180000
DTEND;TZID=America/Denver:20190805T203000
DTSTAMP:20260423T031016
CREATED:20190514T164005Z
LAST-MODIFIED:20190514T164005Z
UID:10057815-1565028000-1565037000@mddsdentist.com
SUMMARY:Member Service Committee Meeting
DESCRIPTION:
URL:https://mddsdentist.com/event/member-service-committee-meeting/
CATEGORIES:employee,volunteer
END:VEVENT
BEGIN:VEVENT
DTSTART;TZID=America/Denver:20190806T100000
DTEND;TZID=America/Denver:20190806T120000
DTSTAMP:20260423T031016
CREATED:20190725T141902Z
LAST-MODIFIED:20190725T141902Z
UID:10058008-1565085600-1565092800@mddsdentist.com
SUMMARY:Patterson Dental site visit
DESCRIPTION:Spencer & Cara\n10 am\n6840 S Quentin St\, Ste 120\,\nCentennial\, CO 80112
URL:https://mddsdentist.com/event/patterson-dental-site-visit/
END:VEVENT
BEGIN:VEVENT
DTSTART;TZID=America/Denver:20190807T100000
DTEND;TZID=America/Denver:20190807T110000
DTSTAMP:20260423T031016
CREATED:20190807T143750Z
LAST-MODIFIED:20190807T143750Z
UID:10058053-1565172000-1565175600@mddsdentist.com
SUMMARY:Dr Appt (cs)
DESCRIPTION:
URL:https://mddsdentist.com/event/dr-appt-cs-3/
CATEGORIES:employee
END:VEVENT
BEGIN:VEVENT
DTSTART;TZID=America/Denver:20190808T140000
DTEND;TZID=America/Denver:20190808T153000
DTSTAMP:20260423T031016
CREATED:20190802T162448Z
LAST-MODIFIED:20190802T162448Z
UID:10058041-1565272800-1565278200@mddsdentist.com
SUMMARY:KM & SM tour CCC
DESCRIPTION:
URL:https://mddsdentist.com/event/km-sm-tour-ccc/
END:VEVENT
BEGIN:VEVENT
DTSTART;TZID=America/Denver:20190809T080000
DTEND;TZID=America/Denver:20190809T170000
DTSTAMP:20260423T031016
CREATED:20190627T162037Z
LAST-MODIFIED:20190627T221248Z
UID:10057948-1565337600-1565370000@mddsdentist.com
SUMMARY:MWDI Rental: Metro Denver Homeless Initiative
DESCRIPTION:
URL:https://mddsdentist.com/event/mwdi-rental-metro-denver-homeless-initiative-tentative/2019-08-09/
CATEGORIES:employee,general
END:VEVENT
BEGIN:VEVENT
DTSTART;TZID=America/Denver:20190815T080000
DTEND;TZID=America/Denver:20190815T110000
DTSTAMP:20260423T031016
CREATED:20190701T155546Z
LAST-MODIFIED:20190815T174826Z
UID:10057953-1565856000-1565866800@mddsdentist.com
SUMMARY:AE Dr. Appt/In Late for NMWE
DESCRIPTION:
URL:https://mddsdentist.com/event/alana-dr-appt/
CATEGORIES:employee
END:VEVENT
BEGIN:VEVENT
DTSTART;TZID=America/Denver:20190815T180000
DTEND;TZID=America/Denver:20190815T200000
DTSTAMP:20260423T031016
CREATED:20190506T184846Z
LAST-MODIFIED:20190612T182942Z
UID:10057792-1565892000-1565899200@mddsdentist.com
SUMMARY:New Member Welcome Event - Historians Ale House
DESCRIPTION:Join MDDS for the New Member Welcome Event at Historians Ale House. Enjoy appetizers and drinks while you meet new members\, connect with colleagues and network with MDDS volunteers. All MDDS member dentists are invited to attend this FREE event. Sign up below. \nSponsored by: \n                      
URL:https://mddsdentist.com/event/august-19-new-member-welcome-event/
CATEGORIES:employee,general,mdds,volunteer
END:VEVENT
BEGIN:VEVENT
DTSTART;TZID=America/Denver:20190816T080000
DTEND;TZID=America/Denver:20190816T170000
DTSTAMP:20260423T031016
CREATED:20190627T162037Z
LAST-MODIFIED:20190627T221248Z
UID:10057949-1565942400-1565974800@mddsdentist.com
SUMMARY:MWDI Rental: Metro Denver Homeless Initiative
DESCRIPTION:
URL:https://mddsdentist.com/event/mwdi-rental-metro-denver-homeless-initiative-tentative/2019-08-16/
CATEGORIES:employee,general
END:VEVENT
BEGIN:VEVENT
DTSTART;TZID=America/Denver:20190816T090000
DTEND;TZID=America/Denver:20190816T160000
DTSTAMP:20260423T031016
CREATED:20181227T201202Z
LAST-MODIFIED:20190718T174205Z
UID:10057295-1565946000-1565971200@mddsdentist.com
SUMMARY:MWDI Rental:Smile Brands
DESCRIPTION:
URL:https://mddsdentist.com/event/mwdi-rentalsmile-brands-tentative/2019-08-16/
CATEGORIES:employee,general
END:VEVENT
BEGIN:VEVENT
DTSTART;TZID=America/Denver:20190816T113000
DTEND;TZID=America/Denver:20190816T113000
DTSTAMP:20260423T031016
CREATED:20190815T165314Z
LAST-MODIFIED:20190815T165314Z
UID:10058079-1565955000-1565955000@mddsdentist.com
SUMMARY:SM out at 11:30am
DESCRIPTION:
URL:https://mddsdentist.com/event/sm-out-at-1130am/
END:VEVENT
BEGIN:VEVENT
DTSTART;TZID=America/Denver:20190819T080000
DTEND;TZID=America/Denver:20190819T170000
DTSTAMP:20260423T031016
CREATED:20190816T223952Z
LAST-MODIFIED:20190816T223952Z
UID:10058087-1566201600-1566234000@mddsdentist.com
SUMMARY:CT Vacation
DESCRIPTION:
URL:https://mddsdentist.com/event/ct-vacation-10/
CATEGORIES:employee
END:VEVENT
BEGIN:VEVENT
DTSTART;TZID=America/Denver:20190821T170000
DTEND;TZID=America/Denver:20190821T200000
DTSTAMP:20260423T031016
CREATED:20190815T180211Z
LAST-MODIFIED:20190815T180211Z
UID:10058080-1566406800-1566417600@mddsdentist.com
SUMMARY:MWDI Rental: Implant Direct
DESCRIPTION:
URL:https://mddsdentist.com/event/mwdi-rental-implant-direct/
CATEGORIES:employee,general
END:VEVENT
BEGIN:VEVENT
DTSTART;TZID=America/Denver:20190822T080000
DTEND;TZID=America/Denver:20190822T170000
DTSTAMP:20260423T031016
CREATED:20190821T190005Z
LAST-MODIFIED:20190821T190005Z
UID:10058102-1566460800-1566493200@mddsdentist.com
SUMMARY:Spencer at Safety Conference
DESCRIPTION:
URL:https://mddsdentist.com/event/spencer-at-safety-conference/
END:VEVENT
BEGIN:VEVENT
DTSTART;TZID=America/Denver:20190822T080000
DTEND;TZID=America/Denver:20190822T170000
DTSTAMP:20260423T031016
CREATED:20180706T233642Z
LAST-MODIFIED:20220921T033438Z
UID:10056697-1566460800-1566493200@mddsdentist.com
SUMMARY:MWDI rental: OBI Foundation level IV\, sessions1
DESCRIPTION:
URL:https://mddsdentist.com/event/mwdi-rental-obi-foundation-level-iv-sessions1/2019-08-22/
CATEGORIES:employee,general
END:VEVENT
BEGIN:VEVENT
DTSTART;TZID=America/Denver:20190822T183000
DTEND;TZID=America/Denver:20190822T203000
DTSTAMP:20260423T031016
CREATED:20190511T171438Z
LAST-MODIFIED:20190511T171438Z
UID:10057808-1566498600-1566505800@mddsdentist.com
SUMMARY:MDDS Community Outreach Committee Meeting
DESCRIPTION:
URL:https://mddsdentist.com/event/mdds-community-outreach-committee-meeting-2/
CATEGORIES:employee,volunteer
END:VEVENT
BEGIN:VEVENT
DTSTART;TZID=America/Denver:20190823T080000
DTEND;TZID=America/Denver:20190823T170000
DTSTAMP:20260423T031016
CREATED:20180706T233642Z
LAST-MODIFIED:20220921T033438Z
UID:10056698-1566547200-1566579600@mddsdentist.com
SUMMARY:MWDI rental: OBI Foundation level IV\, sessions1
DESCRIPTION:
URL:https://mddsdentist.com/event/mwdi-rental-obi-foundation-level-iv-sessions1/2019-08-23/
CATEGORIES:employee,general
END:VEVENT
BEGIN:VEVENT
DTSTART;TZID=America/Denver:20190823T080000
DTEND;TZID=America/Denver:20190824T170000
DTSTAMP:20260423T031016
CREATED:20181019T195607Z
LAST-MODIFIED:20181022T211700Z
UID:10057067-1566547200-1566666000@mddsdentist.com
SUMMARY:MWDI Rental: The OBI Foundation Level 2
DESCRIPTION:
URL:https://mddsdentist.com/event/mwdi-rental-the-obi-foundation-level-2-tentative-2/
CATEGORIES:employee,general
END:VEVENT
BEGIN:VEVENT
DTSTART;TZID=America/Denver:20190824T080000
DTEND;TZID=America/Denver:20190824T170000
DTSTAMP:20260423T031016
CREATED:20180706T233642Z
LAST-MODIFIED:20220921T033438Z
UID:10056699-1566633600-1566666000@mddsdentist.com
SUMMARY:MWDI rental: OBI Foundation level IV\, sessions1
DESCRIPTION:
URL:https://mddsdentist.com/event/mwdi-rental-obi-foundation-level-iv-sessions1/2019-08-24/
CATEGORIES:employee,general
END:VEVENT
BEGIN:VEVENT
DTSTART;TZID=America/Denver:20190826T180000
DTEND;TZID=America/Denver:20190826T200000
DTSTAMP:20260423T031016
CREATED:20190801T221705Z
LAST-MODIFIED:20190801T221705Z
UID:10058038-1566842400-1566849600@mddsdentist.com
SUMMARY:MWDI Oversight Committee Meeting
DESCRIPTION:
URL:https://mddsdentist.com/event/mwdi-oversight-committee-meeting/
CATEGORIES:general,volunteer
END:VEVENT
BEGIN:VEVENT
DTSTART;TZID=America/Denver:20190828T160000
DTEND;TZID=America/Denver:20190828T160000
DTSTAMP:20260423T031016
CREATED:20190827T213505Z
LAST-MODIFIED:20190827T213505Z
UID:10058127-1567008000-1567008000@mddsdentist.com
SUMMARY:SM out at 4pm
DESCRIPTION:
URL:https://mddsdentist.com/event/sm-out-at-4pm/
END:VEVENT
BEGIN:VEVENT
DTSTART;TZID=America/Denver:20190828T180000
DTEND;TZID=America/Denver:20190828T210000
DTSTAMP:20260423T031016
CREATED:20190619T185953Z
LAST-MODIFIED:20190627T165500Z
UID:10057912-1567015200-1567026000@mddsdentist.com
SUMMARY:Mindful Dentist
DESCRIPTION:
URL:https://mddsdentist.com/event/mindful-dentist-tentative/2019-08-28/
CATEGORIES:employee,volunteer
END:VEVENT
BEGIN:VEVENT
DTSTART;TZID=America/Denver:20190829T123000
DTEND;TZID=America/Denver:20190829T160000
DTSTAMP:20260423T031017
CREATED:20190711T173208Z
LAST-MODIFIED:20190711T181336Z
UID:10057986-1567081800-1567094400@mddsdentist.com
SUMMARY:MWDI Rental:Zen Planner
DESCRIPTION:
URL:https://mddsdentist.com/event/mwdi-rentalzen-planner/
CATEGORIES:employee,general
END:VEVENT
BEGIN:VEVENT
DTSTART;TZID=America/Denver:20190903T160000
DTEND;TZID=America/Denver:20190903T160000
DTSTAMP:20260423T031017
CREATED:20190903T134633Z
LAST-MODIFIED:20190903T134633Z
UID:10058148-1567526400-1567526400@mddsdentist.com
SUMMARY:Spencer out at 4pm
DESCRIPTION:
URL:https://mddsdentist.com/event/spencer-out-at-4pm/
END:VEVENT
BEGIN:VEVENT
DTSTART;VALUE=DATE:20190904
DTEND;VALUE=DATE:20190909
DTSTAMP:20260423T031017
CREATED:20181030T210716Z
LAST-MODIFIED:20190828T150520Z
UID:10057114-1567555200-1567987199@mddsdentist.com
SUMMARY:2019 ADA San Francisco (SF\, KM\, CS\, SM)
DESCRIPTION:
URL:https://mddsdentist.com/event/2019-ada-san-francisco/
CATEGORIES:employee,general,volunteer
END:VEVENT
BEGIN:VEVENT
DTSTART;TZID=America/Denver:20190909T133000
DTEND;TZID=America/Denver:20190909T153000
DTSTAMP:20260423T031017
CREATED:20190903T134747Z
LAST-MODIFIED:20190903T134747Z
UID:10058149-1568035800-1568043000@mddsdentist.com
SUMMARY:SM & KM - RMDC meeting
DESCRIPTION:
URL:https://mddsdentist.com/event/sm-km-rmdc-meeting/
END:VEVENT
BEGIN:VEVENT
DTSTART;TZID=America/Denver:20190910T160000
DTEND;TZID=America/Denver:20190910T160000
DTSTAMP:20260423T031017
CREATED:20190820T212004Z
LAST-MODIFIED:20190820T212004Z
UID:10058099-1568131200-1568131200@mddsdentist.com
SUMMARY:SM leaving at 4pm
DESCRIPTION:
URL:https://mddsdentist.com/event/sm-leaving-at-4pm/
END:VEVENT
BEGIN:VEVENT
DTSTART;TZID=America/Denver:20190912T080000
DTEND;TZID=America/Denver:20190912T170000
DTSTAMP:20260423T031017
CREATED:20190912T162931Z
LAST-MODIFIED:20190912T162931Z
UID:10058166-1568275200-1568307600@mddsdentist.com
SUMMARY:Spencer off at 4pm
DESCRIPTION:Off early\, I will be be in at 6:30 am on Friday for MWDI.
URL:https://mddsdentist.com/event/spencer-off-at-4pm/
END:VEVENT
END:VCALENDAR