BEGIN:VCALENDAR
VERSION:2.0
PRODID:-//Metro Denver Dental Society - ECPv6.15.18//NONSGML v1.0//EN
CALSCALE:GREGORIAN
METHOD:PUBLISH
X-WR-CALNAME:Metro Denver Dental Society
X-ORIGINAL-URL:https://mddsdentist.com
X-WR-CALDESC:Events for Metro Denver Dental Society
REFRESH-INTERVAL;VALUE=DURATION:PT1H
X-Robots-Tag:noindex
X-PUBLISHED-TTL:PT1H
BEGIN:VTIMEZONE
TZID:America/Denver
BEGIN:DAYLIGHT
TZOFFSETFROM:-0700
TZOFFSETTO:-0600
TZNAME:MDT
DTSTART:20220313T090000
END:DAYLIGHT
BEGIN:STANDARD
TZOFFSETFROM:-0600
TZOFFSETTO:-0700
TZNAME:MST
DTSTART:20221106T080000
END:STANDARD
BEGIN:DAYLIGHT
TZOFFSETFROM:-0700
TZOFFSETTO:-0600
TZNAME:MDT
DTSTART:20230312T090000
END:DAYLIGHT
BEGIN:STANDARD
TZOFFSETFROM:-0600
TZOFFSETTO:-0700
TZNAME:MST
DTSTART:20231105T080000
END:STANDARD
BEGIN:DAYLIGHT
TZOFFSETFROM:-0700
TZOFFSETTO:-0600
TZNAME:MDT
DTSTART:20240310T090000
END:DAYLIGHT
BEGIN:STANDARD
TZOFFSETFROM:-0600
TZOFFSETTO:-0700
TZNAME:MST
DTSTART:20241103T080000
END:STANDARD
END:VTIMEZONE
BEGIN:VEVENT
DTSTART;TZID=America/Denver:20230515T080000
DTEND;TZID=America/Denver:20230515T170000
DTSTAMP:20260425T054937
CREATED:20221215T160337Z
LAST-MODIFIED:20230619T154005Z
UID:10060246-1684137600-1684170000@mddsdentist.com
SUMMARY:KIND
DESCRIPTION:
URL:https://mddsdentist.com/event/kind-17/2023-05-15/
CATEGORIES:employee,general
END:VEVENT
BEGIN:VEVENT
DTSTART;TZID=America/Denver:20230519T080000
DTEND;TZID=America/Denver:20230519T170000
DTSTAMP:20260425T054937
CREATED:20230109T162341Z
LAST-MODIFIED:20230515T185607Z
UID:10060281-1684483200-1684515600@mddsdentist.com
SUMMARY:MWDI Rental: The Do’s & Don’ts of Porcelain Laminate Veneers
DESCRIPTION:
URL:https://mddsdentist.com/event/mwdi-rental-hand-on-veneer-training-tentative/
CATEGORIES:employee,general
END:VEVENT
END:VCALENDAR