BEGIN:VCALENDAR
VERSION:2.0
PRODID:-//Metro Denver Dental Society - ECPv6.15.18//NONSGML v1.0//EN
CALSCALE:GREGORIAN
METHOD:PUBLISH
X-ORIGINAL-URL:https://mddsdentist.com
X-WR-CALDESC:Events for Metro Denver Dental Society
REFRESH-INTERVAL;VALUE=DURATION:PT1H
X-Robots-Tag:noindex
X-PUBLISHED-TTL:PT1H
BEGIN:VTIMEZONE
TZID:America/Denver
BEGIN:DAYLIGHT
TZOFFSETFROM:-0700
TZOFFSETTO:-0600
TZNAME:MDT
DTSTART:20220313T090000
END:DAYLIGHT
BEGIN:STANDARD
TZOFFSETFROM:-0600
TZOFFSETTO:-0700
TZNAME:MST
DTSTART:20221106T080000
END:STANDARD
BEGIN:DAYLIGHT
TZOFFSETFROM:-0700
TZOFFSETTO:-0600
TZNAME:MDT
DTSTART:20230312T090000
END:DAYLIGHT
BEGIN:STANDARD
TZOFFSETFROM:-0600
TZOFFSETTO:-0700
TZNAME:MST
DTSTART:20231105T080000
END:STANDARD
BEGIN:DAYLIGHT
TZOFFSETFROM:-0700
TZOFFSETTO:-0600
TZNAME:MDT
DTSTART:20240310T090000
END:DAYLIGHT
BEGIN:STANDARD
TZOFFSETFROM:-0600
TZOFFSETTO:-0700
TZNAME:MST
DTSTART:20241103T080000
END:STANDARD
END:VTIMEZONE
BEGIN:VEVENT
DTSTART;TZID=America/Denver:20230601T180000
DTEND;TZID=America/Denver:20230601T210000
DTSTAMP:20260424T211547
CREATED:20230525T144052Z
LAST-MODIFIED:20230525T144052Z
UID:10060534-1685642400-1685653200@mddsdentist.com
SUMMARY:MWDI Rental: Hygiene Study Club
DESCRIPTION:
URL:https://mddsdentist.com/event/mwdi-rental-hygiene-study-club/
CATEGORIES:employee,general
END:VEVENT
BEGIN:VEVENT
DTSTART;TZID=America/Denver:20230603T110000
DTEND;TZID=America/Denver:20230603T130000
DTSTAMP:20260424T211547
CREATED:20220923T150752Z
LAST-MODIFIED:20230524T160434Z
UID:10059960-1685790000-1685797200@mddsdentist.com
SUMMARY:MDDS Zoobilee Friends & Family Event - SOLD OUT
DESCRIPTION:Take a walk on the wild side at the first-ever MDDS Zoobilee at the Denver Zoo on Saturday\, June 3. Bring your family and friends to enjoy lunch\, meet your dental colleagues and explore all the Denver Zoo offers. Registration includes zoo admission and private lunch in the Wildlife Plaza. \nAll MDDS members are invited to attend this annual friends and family event at a special discounted rate. \nDate: Saturday\, June 3\, 2023 \nTime:\n11:00am – 1:00pm (lunch)\nZoo tickets are good for the whole day.  \nRate:\n$15 – MDDS Member – SOLD OUT\n$15 – MDDS Member guests and children 3 and up – SOLD OUT\n$30 – MDDS Non-member – SOLD OUT\n$30 – MDDS Non-member guests and children 3 and up – SOLD OUT\n$0 – Children under 3 – SOLD OUT \nLocation:\nDenver Zoo\nWildlife Plaza\n2300 Steele St\nDenver\, CO 80205 \nCancellation Deadline: Wednesday\, May 24\, 2023 \nSponsored by: \n       \nCancellation Policy\nCancellations will be accepted and are entitled to a refund provided they are received at MDDS by the cancellation deadline. Refunds will not be made for cancellations after the cancellation deadline.
URL:https://mddsdentist.com/event/mdds-zoobilee/
LOCATION:Denver Zoo\, 2300 Steele St\, Denver\, CO\, 80205\, United States
CATEGORIES:employee,general,mdds
ORGANIZER;CN="MDDS":MAILTO:mdds@mddsdentist.com
END:VEVENT
END:VCALENDAR