BEGIN:VCALENDAR
VERSION:2.0
PRODID:-//Metro Denver Dental Society - ECPv6.15.18//NONSGML v1.0//EN
CALSCALE:GREGORIAN
METHOD:PUBLISH
X-ORIGINAL-URL:https://mddsdentist.com
X-WR-CALDESC:Events for Metro Denver Dental Society
REFRESH-INTERVAL;VALUE=DURATION:PT1H
X-Robots-Tag:noindex
X-PUBLISHED-TTL:PT1H
BEGIN:VTIMEZONE
TZID:America/Denver
BEGIN:DAYLIGHT
TZOFFSETFROM:-0700
TZOFFSETTO:-0600
TZNAME:MDT
DTSTART:20220313T090000
END:DAYLIGHT
BEGIN:STANDARD
TZOFFSETFROM:-0600
TZOFFSETTO:-0700
TZNAME:MST
DTSTART:20221106T080000
END:STANDARD
BEGIN:DAYLIGHT
TZOFFSETFROM:-0700
TZOFFSETTO:-0600
TZNAME:MDT
DTSTART:20230312T090000
END:DAYLIGHT
BEGIN:STANDARD
TZOFFSETFROM:-0600
TZOFFSETTO:-0700
TZNAME:MST
DTSTART:20231105T080000
END:STANDARD
BEGIN:DAYLIGHT
TZOFFSETFROM:-0700
TZOFFSETTO:-0600
TZNAME:MDT
DTSTART:20240310T090000
END:DAYLIGHT
BEGIN:STANDARD
TZOFFSETFROM:-0600
TZOFFSETTO:-0700
TZNAME:MST
DTSTART:20241103T080000
END:STANDARD
END:VTIMEZONE
BEGIN:VEVENT
DTSTART;VALUE=DATE:20230630
DTEND;VALUE=DATE:20230701
DTSTAMP:20260424T160258
CREATED:20230404T181901Z
LAST-MODIFIED:20230518T214447Z
UID:10060453-1688083200-1688169599@mddsdentist.com
SUMMARY:ON-DEMAND WEBINAR: The Six Conundrums of Health Equity & How to Reduce Them
DESCRIPTION:Presented by Dr. Dwinta Mosby Tyler \nDid you miss the live webinar? No problem! Register to receive the recorded webinar; learn from health equity leader Dr. Dwinita Mosby Tyler; and earn 1 CE credit. This will only by available through June 30\, 2023. \nThis session will take us on a journey of exploring the six\, most prominent\, barriers to advancing health equity in our work. The exploration will allow each participant an opportunity to reflect on personal and professional conundrums and learn tips and tools to disrupt those barriers as they are happening. As an additional tool\, this session will include a snapshot of examples of what health equity looks like in the national landscape. \nObjectives:\n \n\nUnderstand barriers to equitable oral healthcare\nTakeaway strategies for breaking down healthcare obstacles\nGain insight from national case studies\n\nDr. Dwinita Mosby Tyler is the Chief Catalyst and Founder of The Equity Project\, LLC. She is the former Senior Vice President and Chief Inclusion Officer for Children’s Hospital Colorado. She also served as the Executive Director of the Office of Human Resources for the City and County of Denver. She is an accredited consultant by the Georgetown University National Center for Cultural Competence and a recipient of the Cornell University Diversity & Inclusion certification. Dr. Mosby Tyler is nationally recognized for her equity work with non-profit\, community\, government and corporate organizations. And\, holds a doctorate in the field of Organizational Leadership\, a Master of Arts degree in Management and a Bachelor of Science degree in Education. \nDate: Wednesday\, May 17\, 2023 \nTime: 6:30pm – 7:30pm MST \nLocation: Virtual via Zoom \nRate:\n$0 – CDA/MDDS members\n$0 – CDA/MDDS members’ staff\n$0 – Dental students\n$49 – Non-CDA/MDDS members\n$49 – Non-CDA/MDDS members’ staff \nCE Credits: 1 \nFormat: On-Demand Webinar \nCancelation Policy\nCancelations will be accepted and are entitled to a refund provided they are received at MDDS by the cancelation deadline of each course. Refunds will not be made for cancelations after the cancelation deadline. \n 
URL:https://mddsdentist.com/event/health-equity-webinar/
CATEGORIES:employee,general,mdds
END:VEVENT
END:VCALENDAR