BEGIN:VCALENDAR
VERSION:2.0
PRODID:-//Metro Denver Dental Society - ECPv6.15.18//NONSGML v1.0//EN
CALSCALE:GREGORIAN
METHOD:PUBLISH
X-ORIGINAL-URL:https://mddsdentist.com
X-WR-CALDESC:Events for Metro Denver Dental Society
REFRESH-INTERVAL;VALUE=DURATION:PT1H
X-Robots-Tag:noindex
X-PUBLISHED-TTL:PT1H
BEGIN:VTIMEZONE
TZID:America/Denver
BEGIN:DAYLIGHT
TZOFFSETFROM:-0700
TZOFFSETTO:-0600
TZNAME:MDT
DTSTART:20230312T090000
END:DAYLIGHT
BEGIN:STANDARD
TZOFFSETFROM:-0600
TZOFFSETTO:-0700
TZNAME:MST
DTSTART:20231105T080000
END:STANDARD
BEGIN:DAYLIGHT
TZOFFSETFROM:-0700
TZOFFSETTO:-0600
TZNAME:MDT
DTSTART:20240310T090000
END:DAYLIGHT
BEGIN:STANDARD
TZOFFSETFROM:-0600
TZOFFSETTO:-0700
TZNAME:MST
DTSTART:20241103T080000
END:STANDARD
BEGIN:DAYLIGHT
TZOFFSETFROM:-0700
TZOFFSETTO:-0600
TZNAME:MDT
DTSTART:20250309T090000
END:DAYLIGHT
BEGIN:STANDARD
TZOFFSETFROM:-0600
TZOFFSETTO:-0700
TZNAME:MST
DTSTART:20251102T080000
END:STANDARD
END:VTIMEZONE
BEGIN:VEVENT
DTSTART;VALUE=DATE:20241021
DTEND;VALUE=DATE:20241024
DTSTAMP:20260421T154918
CREATED:20240905T193748Z
LAST-MODIFIED:20240905T193748Z
UID:10061202-1729468800-1729727999@mddsdentist.com
SUMMARY:KT - Out of Office
DESCRIPTION:
URL:https://mddsdentist.com/event/kt-out-of-office/
CATEGORIES:employee
END:VEVENT
BEGIN:VEVENT
DTSTART;TZID=America/Denver:20241022T100000
DTEND;TZID=America/Denver:20241022T120000
DTSTAMP:20260421T154918
CREATED:20240917T145754Z
LAST-MODIFIED:20250711T145457Z
UID:10061217-1729591200-1729598400@mddsdentist.com
SUMMARY:KT - Ednium Team Mtg
DESCRIPTION:
URL:https://mddsdentist.com/event/kt-ednium-team-mtg/2024-10-22/
CATEGORIES:employee
END:VEVENT
BEGIN:VEVENT
DTSTART;TZID=America/Denver:20241023T180000
DTEND;TZID=America/Denver:20241023T193000
DTSTAMP:20260421T154918
CREATED:20240911T140106Z
LAST-MODIFIED:20240911T140106Z
UID:10061209-1729706400-1729711800@mddsdentist.com
SUMMARY:CE Committee Mtg-Zoom
DESCRIPTION:
URL:https://mddsdentist.com/event/ce-committee-mtg-zoom/
CATEGORIES:employee,volunteer
END:VEVENT
BEGIN:VEVENT
DTSTART;TZID=America/Denver:20241024T080000
DTEND;TZID=America/Denver:20241024T170000
DTSTAMP:20260421T154918
CREATED:20241024T133827Z
LAST-MODIFIED:20241024T133827Z
UID:10061533-1729756800-1729789200@mddsdentist.com
SUMMARY:Professional Development - KT
DESCRIPTION:
URL:https://mddsdentist.com/event/professional-development-kt/
CATEGORIES:employee
END:VEVENT
BEGIN:VEVENT
DTSTART;TZID=America/Denver:20241024T170000
DTEND;TZID=America/Denver:20241024T210000
DTSTAMP:20260421T154918
CREATED:20231108T210146Z
LAST-MODIFIED:20240415T202605Z
UID:10060768-1729789200-1729803600@mddsdentist.com
SUMMARY:MWDI Rental: Denver Implant Study Club
DESCRIPTION:
URL:https://mddsdentist.com/event/mwdi-rental-denver-implant-study-club-tentative-2/2024-10-24/
CATEGORIES:employee,general
END:VEVENT
BEGIN:VEVENT
DTSTART;TZID=America/Denver:20241026T113000
DTEND;TZID=America/Denver:20241026T123000
DTSTAMP:20260421T154918
CREATED:20240827T190926Z
LAST-MODIFIED:20241023T223248Z
UID:10061196-1729942200-1729945800@mddsdentist.com
SUMMARY:CDA & MDDS CycleBar Ride - SOLD OUT
DESCRIPTION:Move your body with a 45-minute cycling class featuring cardio and rhythm-based choreography to help you feel strong\, energized and accomplished. Plus\, enjoy a delicious post-workout smoothie while you connect with your dental community. Grab a buddy and register today. \nMembers and guests are invited to attend this event for free. \nDate: Saturday\, October 26\, 2024 \nTime:\n11:30am – 12:30pm\nPlease arrive at least 20 minutes before the class start time. \nRate:\n$0 – CDA Member\n$0 – CDA Member Guest (limit 1 per member) \n$10 – Non-member\n$10 – Non-member Guest (limit 1 per non-member) \nLocation:\nCycleBar\n8501 W Bowles Ave\, Ste 1100\nLittleton\, CO 80123 \nRegistration Deadline: Tuesday\, October 22\, 2024 \nQuestions? If you have any questions about this event\, please contact: \n\nAmanda Dougherty\, CDA Office Manager – (303) 996-2841 or amanda@cdaonline.org\nCara Stan\, Director of Marketing & Membership – (303) 957-3270 or marcom@mddsdentist.com
URL:https://mddsdentist.com/event/cda-mdds-cyclebar-ride/
LOCATION:CycleBar\, 8501 W Bowles Ave\, Ste 1100\, Littleton\, CO\, 80123\, United States
CATEGORIES:employee,general,mdds
END:VEVENT
END:VCALENDAR