BEGIN:VCALENDAR
VERSION:2.0
PRODID:-//Metro Denver Dental Society - ECPv6.15.18//NONSGML v1.0//EN
CALSCALE:GREGORIAN
METHOD:PUBLISH
X-ORIGINAL-URL:https://mddsdentist.com
X-WR-CALDESC:Events for Metro Denver Dental Society
REFRESH-INTERVAL;VALUE=DURATION:PT1H
X-Robots-Tag:noindex
X-PUBLISHED-TTL:PT1H
BEGIN:VTIMEZONE
TZID:America/Denver
BEGIN:DAYLIGHT
TZOFFSETFROM:-0700
TZOFFSETTO:-0600
TZNAME:MDT
DTSTART:20170312T090000
END:DAYLIGHT
BEGIN:STANDARD
TZOFFSETFROM:-0600
TZOFFSETTO:-0700
TZNAME:MST
DTSTART:20171105T080000
END:STANDARD
BEGIN:DAYLIGHT
TZOFFSETFROM:-0700
TZOFFSETTO:-0600
TZNAME:MDT
DTSTART:20180311T090000
END:DAYLIGHT
BEGIN:STANDARD
TZOFFSETFROM:-0600
TZOFFSETTO:-0700
TZNAME:MST
DTSTART:20181104T080000
END:STANDARD
BEGIN:DAYLIGHT
TZOFFSETFROM:-0700
TZOFFSETTO:-0600
TZNAME:MDT
DTSTART:20190310T090000
END:DAYLIGHT
BEGIN:STANDARD
TZOFFSETFROM:-0600
TZOFFSETTO:-0700
TZNAME:MST
DTSTART:20191103T080000
END:STANDARD
END:VTIMEZONE
BEGIN:VEVENT
DTSTART;TZID=America/Denver:20181011T180000
DTEND;TZID=America/Denver:20181011T200000
DTSTAMP:20260419T063640
CREATED:20180912T162835Z
LAST-MODIFIED:20180912T162835Z
UID:10056933-1539280800-1539288000@mddsdentist.com
SUMMARY:New Member Welcome Event - Public School 303
DESCRIPTION:Join MDDS for the New Member Welcome Event at Public School 303. Enjoy appetizers and drinks while you meet new members\, connect with colleagues and network with MDDS volunteers. All MDDS member dentists are invited to attend this FREE event. Sign up below. \nSponsored by: \n          
URL:https://mddsdentist.com/event/october-new-member-welcome-event/
LOCATION:Public School 303\, 1959 16th St Mall\, Denver\, CO\, 80202\, United States
CATEGORIES:employee,general,mdds,volunteer
ORGANIZER;CN="Korinna Milam-MDDS":MAILTO:rmdc@mddsdentist.com
GEO:39.7537534;-105.002923
X-APPLE-STRUCTURED-LOCATION;VALUE=URI;X-ADDRESS=Public School 303 1959 16th St Mall Denver CO 80202 United States;X-APPLE-RADIUS=500;X-TITLE=1959 16th St Mall:geo:-105.002923,39.7537534
END:VEVENT
END:VCALENDAR